BEGIN:VCALENDAR
VERSION:2.0
PRODID:-//River Arts Alliance - ECPv6.15.20//NONSGML v1.0//EN
CALSCALE:GREGORIAN
METHOD:PUBLISH
X-ORIGINAL-URL:https://riverartsalliance.org
X-WR-CALDESC:Events for River Arts Alliance
REFRESH-INTERVAL;VALUE=DURATION:PT1H
X-Robots-Tag:noindex
X-PUBLISHED-TTL:PT1H
BEGIN:VTIMEZONE
TZID:America/Chicago
BEGIN:DAYLIGHT
TZOFFSETFROM:-0600
TZOFFSETTO:-0500
TZNAME:CDT
DTSTART:20230312T080000
END:DAYLIGHT
BEGIN:STANDARD
TZOFFSETFROM:-0500
TZOFFSETTO:-0600
TZNAME:CST
DTSTART:20231105T070000
END:STANDARD
BEGIN:DAYLIGHT
TZOFFSETFROM:-0600
TZOFFSETTO:-0500
TZNAME:CDT
DTSTART:20240310T080000
END:DAYLIGHT
BEGIN:STANDARD
TZOFFSETFROM:-0500
TZOFFSETTO:-0600
TZNAME:CST
DTSTART:20241103T070000
END:STANDARD
BEGIN:DAYLIGHT
TZOFFSETFROM:-0600
TZOFFSETTO:-0500
TZNAME:CDT
DTSTART:20250309T080000
END:DAYLIGHT
BEGIN:STANDARD
TZOFFSETFROM:-0500
TZOFFSETTO:-0600
TZNAME:CST
DTSTART:20251102T070000
END:STANDARD
END:VTIMEZONE
BEGIN:VEVENT
DTSTART;TZID=America/Chicago:20240121T143000
DTEND;TZID=America/Chicago:20240121T173000
DTSTAMP:20260422T052651
CREATED:20240113T005351Z
LAST-MODIFIED:20240113T005351Z
UID:10001025-1705847400-1705858200@riverartsalliance.org
SUMMARY:First 2024 Jazz Jam Supports Winona Community HUB
DESCRIPTION:Island City Brewing Company | 65 E Front St.\nH3OJazz.com \nIsland City Brewing Company’s new owners\, Graham Kaczmarek and Brook Merkwan invite everyone to join H3O Jazz Trio on Sunday\, January 21 from 2:30 to 5:30 pm as they kick off the new year in the taproom. This month’s Jazz Jam fundraiser recipient will be the Winona Community HUB. With health disparities and chronic conditions adversely affecting historically underserved populations\, Winona Community HUB helps to provide essential services that fall outside the scope of standard medical care. \nH3O Jazz Trio and Island City Brewing have helped support local nonprofits with over $42\,000 in total donations thanks to the generosity of Jazz Jam patrons! The December Jazz Jam contributed over to $1\,100 to Sugarloaf Theatre. All Jazz Jam donations are matched by H3O and Island City. Learn more.
URL:https://riverartsalliance.org/event/first-2024-jazz-jam-supports-winona-community-hub/
LOCATION:Island City Brewing Company\, 65 E Front St\, Winona\, MN\, 55987\, United States
END:VEVENT
BEGIN:VEVENT
DTSTART;TZID=America/Chicago:20240121T150000
DTEND;TZID=America/Chicago:20240121T150000
DTSTAMP:20260422T052651
CREATED:20240109T212807Z
LAST-MODIFIED:20240109T212807Z
UID:10001024-1705849200-1705849200@riverartsalliance.org
SUMMARY:LVDY at Winona House Concerts
DESCRIPTION:Historic Frederick Bell House | Winona\nwinonahouseconcerts.com \nThe next concert at Winona House Concerts will feature the duo LVDY\, on Sunday\, January 21 at 3 pm. Tickets are $25.00 and all ticket proceeds go to the artists. LVDY (pronounced LADY) is a Colorado-based duo comprised of Kathleen Hooper and Aubrey Mable. Their uplifting sound and intimate storytelling is a delightful recipe of singer-songwriter\, indie-folk\, with powerful melodies and harmonies that speak to the senses. Love anthems weave in and out of their messages\, with simple yet important reminders that we’re not alone. Learn more.
URL:https://riverartsalliance.org/event/lvdy-at-winona-house-concerts/
LOCATION:MN
END:VEVENT
END:VCALENDAR