BEGIN:VCALENDAR
VERSION:2.0
PRODID:-//River Arts Alliance - ECPv6.15.20//NONSGML v1.0//EN
CALSCALE:GREGORIAN
METHOD:PUBLISH
X-ORIGINAL-URL:https://riverartsalliance.org
X-WR-CALDESC:Events for River Arts Alliance
REFRESH-INTERVAL;VALUE=DURATION:PT1H
X-Robots-Tag:noindex
X-PUBLISHED-TTL:PT1H
BEGIN:VTIMEZONE
TZID:America/Chicago
BEGIN:DAYLIGHT
TZOFFSETFROM:-0600
TZOFFSETTO:-0500
TZNAME:CDT
DTSTART:20230312T080000
END:DAYLIGHT
BEGIN:STANDARD
TZOFFSETFROM:-0500
TZOFFSETTO:-0600
TZNAME:CST
DTSTART:20231105T070000
END:STANDARD
BEGIN:DAYLIGHT
TZOFFSETFROM:-0600
TZOFFSETTO:-0500
TZNAME:CDT
DTSTART:20240310T080000
END:DAYLIGHT
BEGIN:STANDARD
TZOFFSETFROM:-0500
TZOFFSETTO:-0600
TZNAME:CST
DTSTART:20241103T070000
END:STANDARD
BEGIN:DAYLIGHT
TZOFFSETFROM:-0600
TZOFFSETTO:-0500
TZNAME:CDT
DTSTART:20250309T080000
END:DAYLIGHT
BEGIN:STANDARD
TZOFFSETFROM:-0500
TZOFFSETTO:-0600
TZNAME:CST
DTSTART:20251102T070000
END:STANDARD
END:VTIMEZONE
BEGIN:VEVENT
DTSTART;TZID=America/Chicago:20240122T190000
DTEND;TZID=America/Chicago:20240122T190000
DTSTAMP:20260422T052624
CREATED:20240115T205051Z
LAST-MODIFIED:20240115T205051Z
UID:10001027-1705950000-1705950000@riverartsalliance.org
SUMMARY:Winona Public Library Film by Mary Farrell
DESCRIPTION:Winona Public Library | 151 W 5th St.\nwinona.lib.mn.us \nThe Winona Public Library\, gifted to the city of Winona by William Harris Laird in 1899\, is celebrating its 125th anniversary and will premiere the documentary film showing of “Laird’s Legacy: A History of the Winona Public Library.” Filmed by local documentarian and River Arts Alliance member\, Mary Farrell\, and based on the book Laird’s Legacy: A History of the Winona Public Library by Greg Gaut\, the film will debut to the public with three different showings on Monday\, January 22nd and Thursday\, January 25th at 7 pm and Saturday\, January 27th at 11 am. All showings will take place at the Winona Public Library and are free to the public\, but tickets are required for January 22nd and 25th. Tickets are available at https://wpllairdslegacy.brownpapertickets.com. Learn more.
URL:https://riverartsalliance.org/event/winona-public-library-film-by-mary-farrell/
LOCATION:Winona Public Library\, 151 W 5th St.\, Winona\, MN\, 55987\, United States
END:VEVENT
END:VCALENDAR