BEGIN:VCALENDAR
VERSION:2.0
PRODID:-//River Arts Alliance - ECPv6.15.20//NONSGML v1.0//EN
CALSCALE:GREGORIAN
METHOD:PUBLISH
X-ORIGINAL-URL:https://riverartsalliance.org
X-WR-CALDESC:Events for River Arts Alliance
REFRESH-INTERVAL;VALUE=DURATION:PT1H
X-Robots-Tag:noindex
X-PUBLISHED-TTL:PT1H
BEGIN:VTIMEZONE
TZID:America/Chicago
BEGIN:DAYLIGHT
TZOFFSETFROM:-0600
TZOFFSETTO:-0500
TZNAME:CDT
DTSTART:20230312T080000
END:DAYLIGHT
BEGIN:STANDARD
TZOFFSETFROM:-0500
TZOFFSETTO:-0600
TZNAME:CST
DTSTART:20231105T070000
END:STANDARD
BEGIN:DAYLIGHT
TZOFFSETFROM:-0600
TZOFFSETTO:-0500
TZNAME:CDT
DTSTART:20240310T080000
END:DAYLIGHT
BEGIN:STANDARD
TZOFFSETFROM:-0500
TZOFFSETTO:-0600
TZNAME:CST
DTSTART:20241103T070000
END:STANDARD
BEGIN:DAYLIGHT
TZOFFSETFROM:-0600
TZOFFSETTO:-0500
TZNAME:CDT
DTSTART:20250309T080000
END:DAYLIGHT
BEGIN:STANDARD
TZOFFSETFROM:-0500
TZOFFSETTO:-0600
TZNAME:CST
DTSTART:20251102T070000
END:STANDARD
END:VTIMEZONE
BEGIN:VEVENT
DTSTART;TZID=America/Chicago:20240128T100000
DTEND;TZID=America/Chicago:20240128T170000
DTSTAMP:20260422T040155
CREATED:20240123T215019Z
LAST-MODIFIED:20240123T215019Z
UID:10001033-1706436000-1706461200@riverartsalliance.org
SUMMARY:New Look Weekend Celebrates Four New Exhibitions at MMAM
DESCRIPTION:Minnesota Marine Art Museum | 800 Riverview Dr.\nmmam.org \nThe Minnesota Marine Art Museum (MMAM) in Winona\, MN presents the Freshwater New Look Weekend on January 26 – 28\, 2024. In 2024\, MMAM is presenting a year-long suite of exhibitions and programs that explores bold and often under-told narratives\, examines fresh new perspectives of water\, and features game-changing artists who help us better our relationship to this precious resource. This New Look Weekend celebrates the opening of four new exhibitions: Mustafah Abdulaziz: Water; Aabijijiwan / Ukeyat yanalleh\, It Flows Continuously: Karen Goulet and Monique Verdin; Across a Wide Ocean: Remarkable Stories about the Origins of Identity; and Reflective Impressions: The American Society of Marine Artists 19th National Exhibition. Events during the weekend include a New Look Preview Party on Friday evening\, artist-led tours\, a film screening\, demonstrations\, and more. Learn more.
URL:https://riverartsalliance.org/event/new-look-weekend-celebrates-four-new-exhibitions-at-mmam/2024-01-28/
LOCATION:Minnesota Marine Art Museum\, 800 Riverview Dr.\, Winona\, MN\, 55987\, United States
END:VEVENT
BEGIN:VEVENT
DTSTART;TZID=America/Chicago:20240128T130000
DTEND;TZID=America/Chicago:20240128T160000
DTSTAMP:20260422T040155
CREATED:20240117T040536Z
LAST-MODIFIED:20240117T040536Z
UID:10001029-1706446800-1706457600@riverartsalliance.org
SUMMARY:Opening Reception - “Conversations: The Collaboration of an Artist and an Artificial Intelligence” by Morro Schreiber – Exhibit at WAC
DESCRIPTION:Winona Arts Center | 228 E 5th St.\nwinonaarts.org \nThe Winona Arts Center is pleased to announce the exhibit “Conversations: The Collaboration of an Artist and an Artificial Intelligence” by Morro Schreiber opens on January 28 and runs through March 3\, 2024. An opening reception will be held on Sunday\, January 28 from 1:00 to 4:00 pm\, with an Artist Talk at 1:30 pm. Schreiber is a lifelong artist and wordsmith who overcame a visceral knee-jerk hatred of the very idea of art created with artificial intelligence within minutes of actually using AI to create some art of her own. She’s been in daily conversation with midJourney AI since the release of v3 over a year ago\, and has generated over 45\,000 images (of disparate interest and quality)\, now working with v5.2 and the recently released v6. Schreiber has lived in Winona with her family for the past 18 years; this is her first solo exhibition. Learn more.
URL:https://riverartsalliance.org/event/opening-reception-conversations-the-collaboration-of-an-artist-and-an-artificial-intelligence-by-morro-schreiber-exhibit-at-wac/
LOCATION:Winona Arts Center\, 228 E 5th St.\, Winona\, MN\, 55987\, United States
END:VEVENT
END:VCALENDAR