BEGIN:VCALENDAR
VERSION:2.0
PRODID:-//River Arts Alliance - ECPv6.15.20//NONSGML v1.0//EN
CALSCALE:GREGORIAN
METHOD:PUBLISH
X-ORIGINAL-URL:https://riverartsalliance.org
X-WR-CALDESC:Events for River Arts Alliance
REFRESH-INTERVAL;VALUE=DURATION:PT1H
X-Robots-Tag:noindex
X-PUBLISHED-TTL:PT1H
BEGIN:VTIMEZONE
TZID:America/Chicago
BEGIN:DAYLIGHT
TZOFFSETFROM:-0600
TZOFFSETTO:-0500
TZNAME:CDT
DTSTART:20230312T080000
END:DAYLIGHT
BEGIN:STANDARD
TZOFFSETFROM:-0500
TZOFFSETTO:-0600
TZNAME:CST
DTSTART:20231105T070000
END:STANDARD
BEGIN:DAYLIGHT
TZOFFSETFROM:-0600
TZOFFSETTO:-0500
TZNAME:CDT
DTSTART:20240310T080000
END:DAYLIGHT
BEGIN:STANDARD
TZOFFSETFROM:-0500
TZOFFSETTO:-0600
TZNAME:CST
DTSTART:20241103T070000
END:STANDARD
BEGIN:DAYLIGHT
TZOFFSETFROM:-0600
TZOFFSETTO:-0500
TZNAME:CDT
DTSTART:20250309T080000
END:DAYLIGHT
BEGIN:STANDARD
TZOFFSETFROM:-0500
TZOFFSETTO:-0600
TZNAME:CST
DTSTART:20251102T070000
END:STANDARD
END:VTIMEZONE
BEGIN:VEVENT
DTSTART;TZID=America/Chicago:20240131T183000
DTEND;TZID=America/Chicago:20240131T203000
DTSTAMP:20260422T040154
CREATED:20231219T183159Z
LAST-MODIFIED:20240124T011308Z
UID:10001016-1706725800-1706733000@riverartsalliance.org
SUMMARY:RAA 2024 Annual Meeting
DESCRIPTION:The River Arts Alliance 2024 Annual Meeting will be held on Wednesday\, January 31 from 6:30-8:30 pm at the Winona Arts Center. Join us at 6:30 for social time and treats. The business meeting at 7:00 will include Board of Directors elections\, a review of 2023 RAA activities and highlights of plans for 2024. At 7:30\, Eileen Moeller with organizational member Frozen River Film Festival will join us to preview the upcoming festival with a screening of trailers for featured films. The evening will conclude with more social time. We hope you can join us for this great opportunity to learn more about RAA and how you can be involved! \nIf you are a River Arts Alliance member interested in running for a Board position\, please contact the Arts Administrator at admin@riverartsalliance.org or a current Board member for more information. Board nominations can be made prior to or during the meeting. The Annual Meeting is free and open to the public to attend\, though only current RAA members may participate in voting.
URL:https://riverartsalliance.org/event/raa-2024-annual-meeting/
LOCATION:Winona Arts Center\, 228 E 5th St.\, Winona\, MN\, 55987\, United States
END:VEVENT
END:VCALENDAR