BEGIN:VCALENDAR
VERSION:2.0
PRODID:-//River Arts Alliance - ECPv6.15.20//NONSGML v1.0//EN
CALSCALE:GREGORIAN
METHOD:PUBLISH
X-WR-CALNAME:River Arts Alliance
X-ORIGINAL-URL:https://riverartsalliance.org
X-WR-CALDESC:Events for River Arts Alliance
REFRESH-INTERVAL;VALUE=DURATION:PT1H
X-Robots-Tag:noindex
X-PUBLISHED-TTL:PT1H
BEGIN:VTIMEZONE
TZID:America/Chicago
BEGIN:DAYLIGHT
TZOFFSETFROM:-0600
TZOFFSETTO:-0500
TZNAME:CDT
DTSTART:20230312T080000
END:DAYLIGHT
BEGIN:STANDARD
TZOFFSETFROM:-0500
TZOFFSETTO:-0600
TZNAME:CST
DTSTART:20231105T070000
END:STANDARD
BEGIN:DAYLIGHT
TZOFFSETFROM:-0600
TZOFFSETTO:-0500
TZNAME:CDT
DTSTART:20240310T080000
END:DAYLIGHT
BEGIN:STANDARD
TZOFFSETFROM:-0500
TZOFFSETTO:-0600
TZNAME:CST
DTSTART:20241103T070000
END:STANDARD
BEGIN:DAYLIGHT
TZOFFSETFROM:-0600
TZOFFSETTO:-0500
TZNAME:CDT
DTSTART:20250309T080000
END:DAYLIGHT
BEGIN:STANDARD
TZOFFSETFROM:-0500
TZOFFSETTO:-0600
TZNAME:CST
DTSTART:20251102T070000
END:STANDARD
END:VTIMEZONE
BEGIN:VEVENT
DTSTART;TZID=America/Chicago:20240202T190000
DTEND;TZID=America/Chicago:20240202T190000
DTSTAMP:20260422T040134
CREATED:20240124T004918Z
LAST-MODIFIED:20240124T004918Z
UID:10001037-1706900400-1706900400@riverartsalliance.org
SUMMARY:John McAndrew & Billy McLaughlin Concert at WAC
DESCRIPTION:Winona Arts Center | 228 E 5th St.\nwinonaarts.org \nJohn McAndrew and Billy McLaughlin will be in concert on February 2 at the Winona Arts Center. The coffeehouse and gallery open at 6 pm. Tickets are $20 in advance or $25 at the door and are available at Hardt’s Music until Feb. 1 at 4 pm and on Eventbrite until 3 pm\, Feb 2. “John McAndrew is a storyteller whose songs are built on his own life experiences\,” says Walt Quinn; his music can now be heard in several feature films\, television\, and national events. Billy McLaughlin is recognized internationally as a world-class guitarist\, composer and inspirational performer who has appeared on Billboard’s Top Ten Chart. Learn more.
URL:https://riverartsalliance.org/event/john-mcandrew-billy-mclaughlin-concert-at-wac/
LOCATION:Winona Arts Center\, 228 E 5th St.\, Winona\, MN\, 55987\, United States
END:VEVENT
BEGIN:VEVENT
DTSTART;TZID=America/Chicago:20240202T190000
DTEND;TZID=America/Chicago:20240202T190000
DTSTAMP:20260422T040134
CREATED:20240124T010036Z
LAST-MODIFIED:20240124T010151Z
UID:10001039-1706900400-1706900400@riverartsalliance.org
SUMMARY:Silent Movie The General at Old Main
DESCRIPTION:Saturday | February 2 | 7 pm\nOld Main Cultural Center | 20869 College Ave. | Galesville\, WI\noldmaingalesville.com \nThe 1926 silent movie The General\, starring Buster Keaton\, will be shown at Old Main Cultural Center in Galesville on Friday\, February 2 at 7 pm. Tickets are $10 for adults and $5 for high school students and younger. Learn more.
URL:https://riverartsalliance.org/event/silent-movie-the-general-at-old-main/
LOCATION:Old Main Cultural Center\, 20869 S College Ave.\, Galesville\, WI\, 54630\, United States
END:VEVENT
END:VCALENDAR