BEGIN:VCALENDAR
VERSION:2.0
PRODID:-//River Arts Alliance - ECPv6.15.20//NONSGML v1.0//EN
CALSCALE:GREGORIAN
METHOD:PUBLISH
X-ORIGINAL-URL:https://riverartsalliance.org
X-WR-CALDESC:Events for River Arts Alliance
REFRESH-INTERVAL;VALUE=DURATION:PT1H
X-Robots-Tag:noindex
X-PUBLISHED-TTL:PT1H
BEGIN:VTIMEZONE
TZID:America/Chicago
BEGIN:DAYLIGHT
TZOFFSETFROM:-0600
TZOFFSETTO:-0500
TZNAME:CDT
DTSTART:20230312T080000
END:DAYLIGHT
BEGIN:STANDARD
TZOFFSETFROM:-0500
TZOFFSETTO:-0600
TZNAME:CST
DTSTART:20231105T070000
END:STANDARD
BEGIN:DAYLIGHT
TZOFFSETFROM:-0600
TZOFFSETTO:-0500
TZNAME:CDT
DTSTART:20240310T080000
END:DAYLIGHT
BEGIN:STANDARD
TZOFFSETFROM:-0500
TZOFFSETTO:-0600
TZNAME:CST
DTSTART:20241103T070000
END:STANDARD
BEGIN:DAYLIGHT
TZOFFSETFROM:-0600
TZOFFSETTO:-0500
TZNAME:CDT
DTSTART:20250309T080000
END:DAYLIGHT
BEGIN:STANDARD
TZOFFSETFROM:-0500
TZOFFSETTO:-0600
TZNAME:CST
DTSTART:20251102T070000
END:STANDARD
END:VTIMEZONE
BEGIN:VEVENT
DTSTART;TZID=America/Chicago:20240210T100000
DTEND;TZID=America/Chicago:20240210T170000
DTSTAMP:20260422T040222
CREATED:20240205T213112Z
LAST-MODIFIED:20240205T213112Z
UID:10001078-1707559200-1707584400@riverartsalliance.org
SUMMARY:Winter Seasonal Saturday at MMAM Celebrates The Most Beautiful Thing
DESCRIPTION:Minnesota Marine Art Museum | 800 Riverview Dr.\nmmam.org \nOn Saturday\, February 10\, the Minnesota Marine Art Museum (MMAM) will hold its Winter Seasonal Saturday event focused on the theme The Most Beautiful Thing\, inspired by MMAM’s new literary arts exhibition Across a Wide Ocean: Remarkable Stories about the Origins of Identity. Newly opened in January of this year\, this exhibition features two books including The Most Beautiful Thing by Kao Kalia Yang\, illustrated by Khoa Le (Lerner Publishing\, Carolrhoda Books\, 2020)\, and reminds us how water shapes personal\, familial\, and historical stories across cultures and time. \nSeasonal Saturdays strive to reduce intimidation and increase comfortable access to the arts for everyone by offering fun-filled\, inviting days\, with $1 admission\, free transportation\, artist-led programming\, and 30-minute guided tours. Learn more.
URL:https://riverartsalliance.org/event/winter-seasonal-saturday-at-mmam-celebrates-the-most-beautiful-thing/
LOCATION:Minnesota Marine Art Museum\, 800 Riverview Dr.\, Winona\, MN\, 55987\, United States
END:VEVENT
BEGIN:VEVENT
DTSTART;TZID=America/Chicago:20240210T110000
DTEND;TZID=America/Chicago:20240210T120000
DTSTAMP:20260422T040222
CREATED:20240205T194332Z
LAST-MODIFIED:20240205T194332Z
UID:10001049-1707562800-1707566400@riverartsalliance.org
SUMMARY:Heidi Bryant & Meredith Mihm Perform for MMAM Seasonal Saturday
DESCRIPTION:Minnesota Marine Art Museum | 800 Riverview Dr.\nmmam.org \nHeidi Bryant and Meredith Mihm will perform flute and piano music for MMAM’s Winter Seasonal Saturday. Just in time for Valentine’s Day\, selections will include music by Bach\, Bolling\, Debussy\, and Piazzolla along with some beautiful pieces selected to complement the art in the galleries. This performance will be a preview for a Cafe Congo concert on March 24th. We hope you will join us! \nLearn more about the Minnesota Marine Art Museum’s Seasonal Saturday event at mmam.org.
URL:https://riverartsalliance.org/event/heidi-bryant-meredith-mihm-perform-for-mmam-seasonal-saturday/
LOCATION:Minnesota Marine Art Museum\, 800 Riverview Dr.\, Winona\, MN\, 55987\, United States
END:VEVENT
BEGIN:VEVENT
DTSTART;TZID=America/Chicago:20240210T123000
DTEND;TZID=America/Chicago:20240210T123000
DTSTAMP:20260422T040222
CREATED:20240208T214807Z
LAST-MODIFIED:20240208T214807Z
UID:10001080-1707568200-1707568200@riverartsalliance.org
SUMMARY:Sharon Mansur/The Cedar Tree Project at FRFF - Film Set
DESCRIPTION:Winona Arts Center | 228 E 5th St\nfrff.org \nWinona based artist Sharon Mansur and her creative platform The Cedar Tree Project are engaged in several special events at the upcoming Frozen River Film Festival. \nThe film set Blurring Borders: Cinema & Home will be shown on Saturday\, February 10 at the Winona Arts Center. Co-curated by Mizna’s Arab Film Festival curator Michelle Baroody and Sharon Mansur\, and showcasing Arab and SWANA (Southwest Asian and North African) artists and filmmakers\, this set of short films challenges documentary form as well as common narratives/images of immigration and displacement. The set includes NeitherHEREnorTHERE\, a choreo-essay film between Lebanese American artists Sharon Mansur and Meryl Zaytoun Murman. The workshop Home/Place will take place on Sunday\, February 11 at Winona State University. A companion to the Blurring Borders film set\, this workshop facilitated by Sharon Mansur invites participants to engage in a creative process to develop a short film study reflecting their sense of home\, place and belonging as well as scattering and letting go. Learn more.
URL:https://riverartsalliance.org/event/sharon-mansur-the-cedar-tree-project-at-frff-film-set/
LOCATION:Winona Arts Center\, 228 E 5th St.\, Winona\, MN\, 55987\, United States
END:VEVENT
END:VCALENDAR