BEGIN:VCALENDAR
VERSION:2.0
PRODID:-//River Arts Alliance - ECPv6.15.20//NONSGML v1.0//EN
CALSCALE:GREGORIAN
METHOD:PUBLISH
X-ORIGINAL-URL:https://riverartsalliance.org
X-WR-CALDESC:Events for River Arts Alliance
REFRESH-INTERVAL;VALUE=DURATION:PT1H
X-Robots-Tag:noindex
X-PUBLISHED-TTL:PT1H
BEGIN:VTIMEZONE
TZID:America/Chicago
BEGIN:DAYLIGHT
TZOFFSETFROM:-0600
TZOFFSETTO:-0500
TZNAME:CDT
DTSTART:20230312T080000
END:DAYLIGHT
BEGIN:STANDARD
TZOFFSETFROM:-0500
TZOFFSETTO:-0600
TZNAME:CST
DTSTART:20231105T070000
END:STANDARD
BEGIN:DAYLIGHT
TZOFFSETFROM:-0600
TZOFFSETTO:-0500
TZNAME:CDT
DTSTART:20240310T080000
END:DAYLIGHT
BEGIN:STANDARD
TZOFFSETFROM:-0500
TZOFFSETTO:-0600
TZNAME:CST
DTSTART:20241103T070000
END:STANDARD
BEGIN:DAYLIGHT
TZOFFSETFROM:-0600
TZOFFSETTO:-0500
TZNAME:CDT
DTSTART:20250309T080000
END:DAYLIGHT
BEGIN:STANDARD
TZOFFSETFROM:-0500
TZOFFSETTO:-0600
TZNAME:CST
DTSTART:20251102T070000
END:STANDARD
END:VTIMEZONE
BEGIN:VEVENT
DTSTART;TZID=America/Chicago:20240217T190000
DTEND;TZID=America/Chicago:20240217T190000
DTSTAMP:20260422T040154
CREATED:20240208T220421Z
LAST-MODIFIED:20240208T220734Z
UID:10001086-1708196400-1708196400@riverartsalliance.org
SUMMARY:Theatre du Mississippi One Act Festival
DESCRIPTION:Fridays | February 16 & 23 | 7 pm\nSaturdays | February 17 & 24 | 7 pm\nSundays | February 18 & 25 | 2 pm\nValencia Arts Center | 1164 W Howard St.\ntheatredumiss.org \nPrepare yourselves for an enchanting evening filled with theatrical brilliance as we proudly showcase the winners of our 2023 Playwriting Competition in an unmissable One-Act Festival! Join us and experience the magic of never-before-seen stories crafted by talented playwrights. From comedy to drama\, our winning one-acts cover a spectrum of emotions and themes that promise to leave you entertained\, moved\, and inspired. Witness the rise of promising playwrights whose unique voices have earned them a place in our competition. Tickets are $15 pre-sale and $20 at the door. Learn more.
URL:https://riverartsalliance.org/event/theatre-du-mississippi-one-act-festival/2024-02-17/
LOCATION:Minnesota Conservatory for the Arts\, 1164 W 10th St.\, Winona\, MN\, United States
END:VEVENT
BEGIN:VEVENT
DTSTART;TZID=America/Chicago:20240217T190000
DTEND;TZID=America/Chicago:20240217T190000
DTSTAMP:20260422T040154
CREATED:20240212T233215Z
LAST-MODIFIED:20240212T233321Z
UID:10000283-1708196400-1708196400@riverartsalliance.org
SUMMARY:Radoslav Lorković Concert at WAC
DESCRIPTION:Winona Arts Center | 228 E 5th St.\nwinonaarts.org \nRadoslav Lorković will be in concert on February 17\, 2024 at 7 pm at the Winona Arts Center. The coffeehouse and gallery open at 6 pm. Tickets are $15 in advance or $20 at the door. Tickets are available at Hardt’s Music until 4 pm on February 16 or at Eventbrite until 3 pm on February 17. \nDrawing from a multitude of influences ranging from elegant classical and jazz styles to the rawest\, most basic blues\, country and soul\, Radoslav Lorković has taken on an unusually broad musical spectrum and refined it into his distinctive piano style. His tenure on the R&B and folk circuits has culminated in five critically acclaimed solo recordings. Learn more.
URL:https://riverartsalliance.org/event/radoslav-lorkovic-concert-at-wac/
LOCATION:Winona Arts Center\, 228 E 5th St.\, Winona\, MN\, 55987\, United States
END:VEVENT
BEGIN:VEVENT
DTSTART;TZID=America/Chicago:20240217T190000
DTEND;TZID=America/Chicago:20240217T203000
DTSTAMP:20260422T040154
CREATED:20240212T235702Z
LAST-MODIFIED:20240212T235757Z
UID:10000285-1708196400-1708201800@riverartsalliance.org
SUMMARY:Café Congo – Winona Symphony Orchestra Concert
DESCRIPTION:First Congregational Church | 161 W Broadway St.\nwinonasymphony.org \nThe Café Congo fundraiser concert on February 17 will feature musicians from the Winona Symphony Orchestra\, including performances from our esteemed conductor Erik Rohde\, and Dr. Korey Barrett. The evening will be filled with beautiful and virtuosic music that is sure to enchant and delight all in the audience. Selections will include show pieces by Kreisler\, a lovely Nocturne by Lili Boulanger\, and music by Bach.
URL:https://riverartsalliance.org/event/cafe-congo-winona-symphony-orchestra-concert/
LOCATION:First Congregational Church\, 161 W Broadway St.\, Winona\, MN\, 55987\, United States
END:VEVENT
END:VCALENDAR