BEGIN:VCALENDAR
VERSION:2.0
PRODID:-//River Arts Alliance - ECPv6.15.20//NONSGML v1.0//EN
CALSCALE:GREGORIAN
METHOD:PUBLISH
X-WR-CALNAME:River Arts Alliance
X-ORIGINAL-URL:https://riverartsalliance.org
X-WR-CALDESC:Events for River Arts Alliance
REFRESH-INTERVAL;VALUE=DURATION:PT1H
X-Robots-Tag:noindex
X-PUBLISHED-TTL:PT1H
BEGIN:VTIMEZONE
TZID:America/Chicago
BEGIN:DAYLIGHT
TZOFFSETFROM:-0600
TZOFFSETTO:-0500
TZNAME:CDT
DTSTART:20230312T080000
END:DAYLIGHT
BEGIN:STANDARD
TZOFFSETFROM:-0500
TZOFFSETTO:-0600
TZNAME:CST
DTSTART:20231105T070000
END:STANDARD
BEGIN:DAYLIGHT
TZOFFSETFROM:-0600
TZOFFSETTO:-0500
TZNAME:CDT
DTSTART:20240310T080000
END:DAYLIGHT
BEGIN:STANDARD
TZOFFSETFROM:-0500
TZOFFSETTO:-0600
TZNAME:CST
DTSTART:20241103T070000
END:STANDARD
BEGIN:DAYLIGHT
TZOFFSETFROM:-0600
TZOFFSETTO:-0500
TZNAME:CDT
DTSTART:20250309T080000
END:DAYLIGHT
BEGIN:STANDARD
TZOFFSETFROM:-0500
TZOFFSETTO:-0600
TZNAME:CST
DTSTART:20251102T070000
END:STANDARD
END:VTIMEZONE
BEGIN:VEVENT
DTSTART;TZID=America/Chicago:20240218T140000
DTEND;TZID=America/Chicago:20240218T140000
DTSTAMP:20260422T040137
CREATED:20240208T220421Z
LAST-MODIFIED:20240208T220734Z
UID:10001087-1708264800-1708264800@riverartsalliance.org
SUMMARY:Theatre du Mississippi One Act Festival
DESCRIPTION:Fridays | February 16 & 23 | 7 pm\nSaturdays | February 17 & 24 | 7 pm\nSundays | February 18 & 25 | 2 pm\nValencia Arts Center | 1164 W Howard St.\ntheatredumiss.org \nPrepare yourselves for an enchanting evening filled with theatrical brilliance as we proudly showcase the winners of our 2023 Playwriting Competition in an unmissable One-Act Festival! Join us and experience the magic of never-before-seen stories crafted by talented playwrights. From comedy to drama\, our winning one-acts cover a spectrum of emotions and themes that promise to leave you entertained\, moved\, and inspired. Witness the rise of promising playwrights whose unique voices have earned them a place in our competition. Tickets are $15 pre-sale and $20 at the door. Learn more.
URL:https://riverartsalliance.org/event/theatre-du-mississippi-one-act-festival/2024-02-18/
LOCATION:Minnesota Conservatory for the Arts\, 1164 W 10th St.\, Winona\, MN\, United States
END:VEVENT
BEGIN:VEVENT
DTSTART;TZID=America/Chicago:20240218T143000
DTEND;TZID=America/Chicago:20240218T173000
DTSTAMP:20260422T040137
CREATED:20240213T020257Z
LAST-MODIFIED:20240213T020257Z
UID:10000287-1708266600-1708277400@riverartsalliance.org
SUMMARY:February Jazz Jam Goes Classical
DESCRIPTION:Island City Brewing Company | 65 E Front St.\nH3OJazz.com \nJoin the fun as H3O Jazz Trio and Winona Symphony Orchestra partner in support of the Symphony’s annual Children’s Concert. This month’s Jazz Jam takes place in the taproom at Island City Brewing Company on Sunday\, February 18 from 2:30 – 5:30 p.m. \nH3O Jazz Trio and Island City Brewing have helped support local nonprofits with over $43\,000 in total donations thanks to the generosity of Jazz Jam patrons! The January Jazz Jam contributed over $800 to Winona Community HUB. All Jazz Jam donations are matched by H3O and Island City. Learn more.
URL:https://riverartsalliance.org/event/february-jazz-jam-goes-classical/
LOCATION:Island City Brewing Company\, 65 E Front St\, Winona\, MN\, 55987\, United States
END:VEVENT
BEGIN:VEVENT
DTSTART;TZID=America/Chicago:20240218T150000
DTEND;TZID=America/Chicago:20240218T170000
DTSTAMP:20260422T040137
CREATED:20240213T023326Z
LAST-MODIFIED:20240213T023347Z
UID:10000289-1708268400-1708275600@riverartsalliance.org
SUMMARY:Winona Arts Center’s Annual Membership Meeting
DESCRIPTION:Winona Arts Center | 228 E 5th St.\nwinonaarts.org \nThe Winona Arts Center will host its annual membership meeting on February 18\, 2024 from 3 pm to 5 pm. The agenda will include a business meeting with election of officers and board members\, a wine and cheese reception\, and a performance by the Winona Drum Circle. Learn more.
URL:https://riverartsalliance.org/event/winona-arts-centers-annual-membership-meeting/
LOCATION:Winona Arts Center\, 228 E 5th St.\, Winona\, MN\, 55987\, United States
END:VEVENT
END:VCALENDAR