BEGIN:VCALENDAR
VERSION:2.0
PRODID:-//River Arts Alliance - ECPv6.15.20//NONSGML v1.0//EN
CALSCALE:GREGORIAN
METHOD:PUBLISH
X-ORIGINAL-URL:https://riverartsalliance.org
X-WR-CALDESC:Events for River Arts Alliance
REFRESH-INTERVAL;VALUE=DURATION:PT1H
X-Robots-Tag:noindex
X-PUBLISHED-TTL:PT1H
BEGIN:VTIMEZONE
TZID:America/Chicago
BEGIN:DAYLIGHT
TZOFFSETFROM:-0600
TZOFFSETTO:-0500
TZNAME:CDT
DTSTART:20230312T080000
END:DAYLIGHT
BEGIN:STANDARD
TZOFFSETFROM:-0500
TZOFFSETTO:-0600
TZNAME:CST
DTSTART:20231105T070000
END:STANDARD
BEGIN:DAYLIGHT
TZOFFSETFROM:-0600
TZOFFSETTO:-0500
TZNAME:CDT
DTSTART:20240310T080000
END:DAYLIGHT
BEGIN:STANDARD
TZOFFSETFROM:-0500
TZOFFSETTO:-0600
TZNAME:CST
DTSTART:20241103T070000
END:STANDARD
BEGIN:DAYLIGHT
TZOFFSETFROM:-0600
TZOFFSETTO:-0500
TZNAME:CDT
DTSTART:20250309T080000
END:DAYLIGHT
BEGIN:STANDARD
TZOFFSETFROM:-0500
TZOFFSETTO:-0600
TZNAME:CST
DTSTART:20251102T070000
END:STANDARD
END:VTIMEZONE
BEGIN:VEVENT
DTSTART;TZID=America/Chicago:20240220T090000
DTEND;TZID=America/Chicago:20240220T100000
DTSTAMP:20260422T040222
CREATED:20240213T030050Z
LAST-MODIFIED:20240213T030050Z
UID:10000291-1708419600-1708423200@riverartsalliance.org
SUMMARY:Winona Symphony Orchestra Children’s Concert – On the Day You Were Born
DESCRIPTION:Winona Middle School | 1570 Homer Rd.\nwinonasymphony.org \nEvery year\, the Winona Symphony Orchestra presents a children’s concert that brings in over 1\,000 students from schools all over the area. This year\, the concert will include Edvard Grieg’s Holberg Suite\, based on dance music\, and On the Day You Were Born by Southeast Minnesota native Steve Heitzig\, which is infused with images and themes of nature and peace. The concert\, featuring Alan Dunbar\, Professor of Music at Winona State University\, is recommended for second through fifth graders. Please contact Margaret Cassidy – mecofscassidy@gmail.com – to reserve your seats. Learn more.
URL:https://riverartsalliance.org/event/winona-symphony-orchestra-childrens-concert-on-the-day-you-were-born/2024-02-20/1/
LOCATION:Winona Middle School\, 1570 Homer Rd.\, Winona\, MN\, 55987\, United States
END:VEVENT
BEGIN:VEVENT
DTSTART;TZID=America/Chicago:20240220T103000
DTEND;TZID=America/Chicago:20240220T113000
DTSTAMP:20260422T040222
CREATED:20240213T030050Z
LAST-MODIFIED:20240213T030050Z
UID:10000292-1708425000-1708428600@riverartsalliance.org
SUMMARY:Winona Symphony Orchestra Children’s Concert – On the Day You Were Born
DESCRIPTION:Winona Middle School | 1570 Homer Rd.\nwinonasymphony.org \nEvery year\, the Winona Symphony Orchestra presents a children’s concert that brings in over 1\,000 students from schools all over the area. This year\, the concert will include Edvard Grieg’s Holberg Suite\, based on dance music\, and On the Day You Were Born by Southeast Minnesota native Steve Heitzig\, which is infused with images and themes of nature and peace. The concert\, featuring Alan Dunbar\, Professor of Music at Winona State University\, is recommended for second through fifth graders. Please contact Margaret Cassidy – mecofscassidy@gmail.com – to reserve your seats. Learn more.
URL:https://riverartsalliance.org/event/winona-symphony-orchestra-childrens-concert-on-the-day-you-were-born/2024-02-20/2/
LOCATION:Winona Middle School\, 1570 Homer Rd.\, Winona\, MN\, 55987\, United States
END:VEVENT
BEGIN:VEVENT
DTSTART;TZID=America/Chicago:20240220T103000
DTEND;TZID=America/Chicago:20240220T113000
DTSTAMP:20260422T040222
CREATED:20240213T030255Z
LAST-MODIFIED:20240213T030255Z
UID:10000293-1708425000-1708428600@riverartsalliance.org
SUMMARY:Winona Symphony Orchestra Children’s Concert – On the Day You Were Born
DESCRIPTION:Winona Middle School | 1570 Homer Rd.\nwinonasymphony.org \nEvery year\, the Winona Symphony Orchestra presents a children’s concert that brings in over 1\,000 students from schools all over the area. This year\, the concert will include Edvard Grieg’s Holberg Suite\, based on dance music\, and On the Day You Were Born by Southeast Minnesota native Steve Heitzig\, which is infused with images and themes of nature and peace. The concert\, featuring Alan Dunbar\, Professor of Music at Winona State University\, is recommended for second through fifth graders. Please contact Margaret Cassidy – mecofscassidy@gmail.com – to reserve your seats. Learn more.
URL:https://riverartsalliance.org/event/winona-symphony-orchestra-childrens-concert-on-the-day-you-were-born-2/
LOCATION:Winona Middle School\, 1570 Homer Rd.\, Winona\, MN\, 55987\, United States
END:VEVENT
END:VCALENDAR