BEGIN:VCALENDAR
VERSION:2.0
PRODID:-//River Arts Alliance - ECPv6.15.20//NONSGML v1.0//EN
CALSCALE:GREGORIAN
METHOD:PUBLISH
X-ORIGINAL-URL:https://riverartsalliance.org
X-WR-CALDESC:Events for River Arts Alliance
REFRESH-INTERVAL;VALUE=DURATION:PT1H
X-Robots-Tag:noindex
X-PUBLISHED-TTL:PT1H
BEGIN:VTIMEZONE
TZID:America/Chicago
BEGIN:DAYLIGHT
TZOFFSETFROM:-0600
TZOFFSETTO:-0500
TZNAME:CDT
DTSTART:20230312T080000
END:DAYLIGHT
BEGIN:STANDARD
TZOFFSETFROM:-0500
TZOFFSETTO:-0600
TZNAME:CST
DTSTART:20231105T070000
END:STANDARD
BEGIN:DAYLIGHT
TZOFFSETFROM:-0600
TZOFFSETTO:-0500
TZNAME:CDT
DTSTART:20240310T080000
END:DAYLIGHT
BEGIN:STANDARD
TZOFFSETFROM:-0500
TZOFFSETTO:-0600
TZNAME:CST
DTSTART:20241103T070000
END:STANDARD
BEGIN:DAYLIGHT
TZOFFSETFROM:-0600
TZOFFSETTO:-0500
TZNAME:CDT
DTSTART:20250309T080000
END:DAYLIGHT
BEGIN:STANDARD
TZOFFSETFROM:-0500
TZOFFSETTO:-0600
TZNAME:CST
DTSTART:20251102T070000
END:STANDARD
END:VTIMEZONE
BEGIN:VEVENT
DTSTART;TZID=America/Chicago:20240221T120000
DTEND;TZID=America/Chicago:20240221T130000
DTSTAMP:20260422T040220
CREATED:20240213T034803Z
LAST-MODIFIED:20240213T034803Z
UID:10000295-1708516800-1708520400@riverartsalliance.org
SUMMARY:Pipe Organ Recital at Central Lutheran
DESCRIPTION:Central Lutheran Church | 259 W Wabasha St.\nsites.google.com/centrallutheranchurch.org/hendrickson-30th \n2024 marks the 30th anniversary of Central Lutheran’s magnificent Hendrickson pipe organ. To celebrate\, the church will host a series of recitals beginning in February and continuing throughout the year. Performances will be from noon to 1 pm and are free and open to all. Donations collected from a freewill offering will support the instrument’s upcoming renovation. The first recital on February 21 will feature Alexander Meszler\, an organist dedicated to interdisciplinary performance and research. He serves as College Organist and Assistant Professor of Music at Luther College. See the list of upcoming recital dates and performers and learn more here.
URL:https://riverartsalliance.org/event/pipe-organ-recital-at-central-lutheran/
LOCATION:Central Lutheran Church\, 259 W Wabasha St.\, Winona\, MN\, 55987\, United States
END:VEVENT
BEGIN:VEVENT
DTSTART;TZID=America/Chicago:20240221T180000
DTEND;TZID=America/Chicago:20240221T200000
DTSTAMP:20260422T040220
CREATED:20240221T190539Z
LAST-MODIFIED:20240221T190539Z
UID:10000297-1708538400-1708545600@riverartsalliance.org
SUMMARY:H3O Jazz Trio Album Release Party
DESCRIPTION:Thesis Beer Project | 1929 2nd St. SW | Rochester\nH3OJazz.com \nOver the past 2 decades\, H3O Jazz Trio founder Eric Heukeshoven has composed over 40 tunes dedicated to and performed for special places\, friends\, and occasions – restaurants\, art gallery openings\, music festivals\, a celebrity wedding\, the pandemic\, and some very special birthdays! TafelJazz is a collection of 12 of these “songs for an occasion” composed by Heukeshoven and performed by H3O with the help of friends and family including John Paulson on sax and flute\, John Sievers on trombone and vocals\, and Janet Heukeshoven on flute. \nTo celebrate the release of their first studio recording\, H3O Jazz Trio is throwing two album release parties – and everyone’s invited! On Wednesday\, February 21 from 6 to 8 pm\, fans in Rochester can hear the entire album performed live as part of the Rochester City Jazz Festival’s monthlong residency at Thesis Beer Project. The party moves to Winona on Sunday\, February 25 as H3O returns to Island City Brewing Company from 2 to 4 pm. Both events are free and open to all. Learn more.
URL:https://riverartsalliance.org/event/h3o-jazz-trio-album-release-party/
LOCATION:Thesis Beer Project\, 1929 2nd St. SW\, Rochester\, MN\, 55902\, United States
END:VEVENT
END:VCALENDAR