BEGIN:VCALENDAR
VERSION:2.0
PRODID:-//River Arts Alliance - ECPv6.15.20//NONSGML v1.0//EN
CALSCALE:GREGORIAN
METHOD:PUBLISH
X-WR-CALNAME:River Arts Alliance
X-ORIGINAL-URL:https://riverartsalliance.org
X-WR-CALDESC:Events for River Arts Alliance
REFRESH-INTERVAL;VALUE=DURATION:PT1H
X-Robots-Tag:noindex
X-PUBLISHED-TTL:PT1H
BEGIN:VTIMEZONE
TZID:America/Chicago
BEGIN:DAYLIGHT
TZOFFSETFROM:-0600
TZOFFSETTO:-0500
TZNAME:CDT
DTSTART:20230312T080000
END:DAYLIGHT
BEGIN:STANDARD
TZOFFSETFROM:-0500
TZOFFSETTO:-0600
TZNAME:CST
DTSTART:20231105T070000
END:STANDARD
BEGIN:DAYLIGHT
TZOFFSETFROM:-0600
TZOFFSETTO:-0500
TZNAME:CDT
DTSTART:20240310T080000
END:DAYLIGHT
BEGIN:STANDARD
TZOFFSETFROM:-0500
TZOFFSETTO:-0600
TZNAME:CST
DTSTART:20241103T070000
END:STANDARD
BEGIN:DAYLIGHT
TZOFFSETFROM:-0600
TZOFFSETTO:-0500
TZNAME:CDT
DTSTART:20250309T080000
END:DAYLIGHT
BEGIN:STANDARD
TZOFFSETFROM:-0500
TZOFFSETTO:-0600
TZNAME:CST
DTSTART:20251102T070000
END:STANDARD
END:VTIMEZONE
BEGIN:VEVENT
DTSTART;TZID=America/Chicago:20240222T190000
DTEND;TZID=America/Chicago:20240222T200000
DTSTAMP:20260422T040138
CREATED:20240221T191612Z
LAST-MODIFIED:20240221T191612Z
UID:10000303-1708628400-1708632000@riverartsalliance.org
SUMMARY:Water Music: Chamber Concerts at the MMAM – Reflections on the Nature of Water
DESCRIPTION:Minnesota Marine Art Museum | 800 Riverview Dr.\nwinonasymphony.org \nJoin us for a performance by F PLUS\, a violin\, clarinet\, and percussion trio titled Reflections on the Nature of Water. The program is formed around one of the greatest works written for the marimba\, a piece by Jacob Druckman which is written to musically describe the natural properties of water. The program will evoke the many facets of sound reflected in the marine art exhibition surrounding the performance. Learn more.
URL:https://riverartsalliance.org/event/water-music-chamber-concerts-at-the-mmam-reflections-on-the-nature-of-water/
LOCATION:Minnesota Marine Art Museum\, 800 Riverview Dr.\, Winona\, MN\, 55987\, United States
END:VEVENT
END:VCALENDAR