BEGIN:VCALENDAR
VERSION:2.0
PRODID:-//River Arts Alliance - ECPv6.15.20//NONSGML v1.0//EN
CALSCALE:GREGORIAN
METHOD:PUBLISH
X-WR-CALNAME:River Arts Alliance
X-ORIGINAL-URL:https://riverartsalliance.org
X-WR-CALDESC:Events for River Arts Alliance
REFRESH-INTERVAL;VALUE=DURATION:PT1H
X-Robots-Tag:noindex
X-PUBLISHED-TTL:PT1H
BEGIN:VTIMEZONE
TZID:America/Chicago
BEGIN:DAYLIGHT
TZOFFSETFROM:-0600
TZOFFSETTO:-0500
TZNAME:CDT
DTSTART:20230312T080000
END:DAYLIGHT
BEGIN:STANDARD
TZOFFSETFROM:-0500
TZOFFSETTO:-0600
TZNAME:CST
DTSTART:20231105T070000
END:STANDARD
BEGIN:DAYLIGHT
TZOFFSETFROM:-0600
TZOFFSETTO:-0500
TZNAME:CDT
DTSTART:20240310T080000
END:DAYLIGHT
BEGIN:STANDARD
TZOFFSETFROM:-0500
TZOFFSETTO:-0600
TZNAME:CST
DTSTART:20241103T070000
END:STANDARD
BEGIN:DAYLIGHT
TZOFFSETFROM:-0600
TZOFFSETTO:-0500
TZNAME:CDT
DTSTART:20250309T080000
END:DAYLIGHT
BEGIN:STANDARD
TZOFFSETFROM:-0500
TZOFFSETTO:-0600
TZNAME:CST
DTSTART:20251102T070000
END:STANDARD
END:VTIMEZONE
BEGIN:VEVENT
DTSTART;TZID=America/Chicago:20240223T190000
DTEND;TZID=America/Chicago:20240223T190000
DTSTAMP:20260422T040136
CREATED:20240208T220421Z
LAST-MODIFIED:20240208T220734Z
UID:10001088-1708714800-1708714800@riverartsalliance.org
SUMMARY:Theatre du Mississippi One Act Festival
DESCRIPTION:Fridays | February 16 & 23 | 7 pm\nSaturdays | February 17 & 24 | 7 pm\nSundays | February 18 & 25 | 2 pm\nValencia Arts Center | 1164 W Howard St.\ntheatredumiss.org \nPrepare yourselves for an enchanting evening filled with theatrical brilliance as we proudly showcase the winners of our 2023 Playwriting Competition in an unmissable One-Act Festival! Join us and experience the magic of never-before-seen stories crafted by talented playwrights. From comedy to drama\, our winning one-acts cover a spectrum of emotions and themes that promise to leave you entertained\, moved\, and inspired. Witness the rise of promising playwrights whose unique voices have earned them a place in our competition. Tickets are $15 pre-sale and $20 at the door. Learn more.
URL:https://riverartsalliance.org/event/theatre-du-mississippi-one-act-festival/2024-02-23/
LOCATION:Minnesota Conservatory for the Arts\, 1164 W 10th St.\, Winona\, MN\, United States
END:VEVENT
BEGIN:VEVENT
DTSTART;TZID=America/Chicago:20240223T190000
DTEND;TZID=America/Chicago:20240223T190000
DTSTAMP:20260422T040136
CREATED:20240222T163704Z
LAST-MODIFIED:20240222T163704Z
UID:10001091-1708714800-1708714800@riverartsalliance.org
SUMMARY:WAC Film Three Worlds
DESCRIPTION:Winona Arts Center | 228 E 5th St.\nwinonaarts.org \nThe Winona Film Society presents the French film\, Three Worlds\, on February 23 at the Winona Arts Center. Doors open at 6:30 pm and admission is $5. Al\, a young man from modest means\, is about to marry the boss’s daughter but after a night of partying\, commits a hit and run and flees the scene. When he goes to the hospital\, he is recognized by Juliette who witnessed the accident. Juliette pursues Al and demands him to come forth but the situation proves more complicated than anyone expected. The film was directed by Catherine Corsini and is in French with subtitles. Learn more.
URL:https://riverartsalliance.org/event/wac-film-three-worlds/
LOCATION:Winona Arts Center\, 228 E 5th St.\, Winona\, MN\, 55987\, United States
END:VEVENT
END:VCALENDAR