BEGIN:VCALENDAR
VERSION:2.0
PRODID:-//River Arts Alliance - ECPv6.15.20//NONSGML v1.0//EN
CALSCALE:GREGORIAN
METHOD:PUBLISH
X-WR-CALNAME:River Arts Alliance
X-ORIGINAL-URL:https://riverartsalliance.org
X-WR-CALDESC:Events for River Arts Alliance
REFRESH-INTERVAL;VALUE=DURATION:PT1H
X-Robots-Tag:noindex
X-PUBLISHED-TTL:PT1H
BEGIN:VTIMEZONE
TZID:America/Chicago
BEGIN:DAYLIGHT
TZOFFSETFROM:-0600
TZOFFSETTO:-0500
TZNAME:CDT
DTSTART:20230312T080000
END:DAYLIGHT
BEGIN:STANDARD
TZOFFSETFROM:-0500
TZOFFSETTO:-0600
TZNAME:CST
DTSTART:20231105T070000
END:STANDARD
BEGIN:DAYLIGHT
TZOFFSETFROM:-0600
TZOFFSETTO:-0500
TZNAME:CDT
DTSTART:20240310T080000
END:DAYLIGHT
BEGIN:STANDARD
TZOFFSETFROM:-0500
TZOFFSETTO:-0600
TZNAME:CST
DTSTART:20241103T070000
END:STANDARD
BEGIN:DAYLIGHT
TZOFFSETFROM:-0600
TZOFFSETTO:-0500
TZNAME:CDT
DTSTART:20250309T080000
END:DAYLIGHT
BEGIN:STANDARD
TZOFFSETFROM:-0500
TZOFFSETTO:-0600
TZNAME:CST
DTSTART:20251102T070000
END:STANDARD
END:VTIMEZONE
BEGIN:VEVENT
DTSTART;TZID=America/Chicago:20240224T190000
DTEND;TZID=America/Chicago:20240224T190000
DTSTAMP:20260422T040136
CREATED:20240208T220421Z
LAST-MODIFIED:20240208T220734Z
UID:10001089-1708801200-1708801200@riverartsalliance.org
SUMMARY:Theatre du Mississippi One Act Festival
DESCRIPTION:Fridays | February 16 & 23 | 7 pm\nSaturdays | February 17 & 24 | 7 pm\nSundays | February 18 & 25 | 2 pm\nValencia Arts Center | 1164 W Howard St.\ntheatredumiss.org \nPrepare yourselves for an enchanting evening filled with theatrical brilliance as we proudly showcase the winners of our 2023 Playwriting Competition in an unmissable One-Act Festival! Join us and experience the magic of never-before-seen stories crafted by talented playwrights. From comedy to drama\, our winning one-acts cover a spectrum of emotions and themes that promise to leave you entertained\, moved\, and inspired. Witness the rise of promising playwrights whose unique voices have earned them a place in our competition. Tickets are $15 pre-sale and $20 at the door. Learn more.
URL:https://riverartsalliance.org/event/theatre-du-mississippi-one-act-festival/2024-02-24/
LOCATION:Minnesota Conservatory for the Arts\, 1164 W 10th St.\, Winona\, MN\, United States
END:VEVENT
BEGIN:VEVENT
DTSTART;TZID=America/Chicago:20240224T190000
DTEND;TZID=America/Chicago:20240224T223000
DTSTAMP:20260422T040136
CREATED:20240222T164032Z
LAST-MODIFIED:20240222T164032Z
UID:10001092-1708801200-1708813800@riverartsalliance.org
SUMMARY:French Café Dance with Live Music by Under Paris Skies
DESCRIPTION:Winona Athletic Club | 773 E 5th St.\nrivercitydancers.org \nSavor the ambiance of a cozy French café as Under Paris Skies serenades you on the dance floor! Unforgettable memories await. Don’t miss your chance to dance to a seasoned live band under the twinkling lights. The Triple Swing & Tango dance lesson will be from 7 to 8 pm. The social ballroom dance starts at 8 and goes until 10:30 pm. The cost of admission (general: $15; students: $10) includes the optional dance lesson. Learn more.
URL:https://riverartsalliance.org/event/french-cafe-dance-with-live-music-by-under-paris-skies/
LOCATION:Winona Athletic Club\, 773 E 5th St.\, Winona\, MN\, 55987\, United States
END:VEVENT
END:VCALENDAR