BEGIN:VCALENDAR
VERSION:2.0
PRODID:-//River Arts Alliance - ECPv6.15.20//NONSGML v1.0//EN
CALSCALE:GREGORIAN
METHOD:PUBLISH
X-ORIGINAL-URL:https://riverartsalliance.org
X-WR-CALDESC:Events for River Arts Alliance
REFRESH-INTERVAL;VALUE=DURATION:PT1H
X-Robots-Tag:noindex
X-PUBLISHED-TTL:PT1H
BEGIN:VTIMEZONE
TZID:America/Chicago
BEGIN:DAYLIGHT
TZOFFSETFROM:-0600
TZOFFSETTO:-0500
TZNAME:CDT
DTSTART:20230312T080000
END:DAYLIGHT
BEGIN:STANDARD
TZOFFSETFROM:-0500
TZOFFSETTO:-0600
TZNAME:CST
DTSTART:20231105T070000
END:STANDARD
BEGIN:DAYLIGHT
TZOFFSETFROM:-0600
TZOFFSETTO:-0500
TZNAME:CDT
DTSTART:20240310T080000
END:DAYLIGHT
BEGIN:STANDARD
TZOFFSETFROM:-0500
TZOFFSETTO:-0600
TZNAME:CST
DTSTART:20241103T070000
END:STANDARD
BEGIN:DAYLIGHT
TZOFFSETFROM:-0600
TZOFFSETTO:-0500
TZNAME:CDT
DTSTART:20250309T080000
END:DAYLIGHT
BEGIN:STANDARD
TZOFFSETFROM:-0500
TZOFFSETTO:-0600
TZNAME:CST
DTSTART:20251102T070000
END:STANDARD
END:VTIMEZONE
BEGIN:VEVENT
DTSTART;TZID=America/Chicago:20240305T190000
DTEND;TZID=America/Chicago:20240305T190000
DTSTAMP:20260420T025255
CREATED:20240304T181945Z
LAST-MODIFIED:20240304T181945Z
UID:10001120-1709665200-1709665200@riverartsalliance.org
SUMMARY:Laureate Writers Series Presents Poet Nancy Hengeveld
DESCRIPTION:Blue Heron Coffeehouse | 162 W 2nd St. \nPreston Poet Nancy Hengeveld To Read from her Prize-Winning Debut Book \nAs part of the continuing Laureate Writers Series\, poet Nancy Hengeveld will read from her recently published book Petrichor\, winner of the 2022 Barbara Stevens Poetry Book Award sponsored by the National Federation of State Poetry Societies. The presentation will take place at 7 pm on March 5\, 2024 at the Blue Heron Coffeehouse\, 162 W 2nd St.\, Winona. The reading is free and open to the public and will be followed by a book signing and open mic. Learn more.
URL:https://riverartsalliance.org/event/laureate-writers-series-presents-poet-nancy-hengeveld/
LOCATION:Blue Heron Coffeehouse\, 162 W 2nd St\, Winona\, MN\, 55987\, United States
END:VEVENT
END:VCALENDAR