BEGIN:VCALENDAR
VERSION:2.0
PRODID:-//River Arts Alliance - ECPv6.15.20//NONSGML v1.0//EN
CALSCALE:GREGORIAN
METHOD:PUBLISH
X-ORIGINAL-URL:https://riverartsalliance.org
X-WR-CALDESC:Events for River Arts Alliance
REFRESH-INTERVAL;VALUE=DURATION:PT1H
X-Robots-Tag:noindex
X-PUBLISHED-TTL:PT1H
BEGIN:VTIMEZONE
TZID:America/Chicago
BEGIN:DAYLIGHT
TZOFFSETFROM:-0600
TZOFFSETTO:-0500
TZNAME:CDT
DTSTART:20230312T080000
END:DAYLIGHT
BEGIN:STANDARD
TZOFFSETFROM:-0500
TZOFFSETTO:-0600
TZNAME:CST
DTSTART:20231105T070000
END:STANDARD
BEGIN:DAYLIGHT
TZOFFSETFROM:-0600
TZOFFSETTO:-0500
TZNAME:CDT
DTSTART:20240310T080000
END:DAYLIGHT
BEGIN:STANDARD
TZOFFSETFROM:-0500
TZOFFSETTO:-0600
TZNAME:CST
DTSTART:20241103T070000
END:STANDARD
BEGIN:DAYLIGHT
TZOFFSETFROM:-0600
TZOFFSETTO:-0500
TZNAME:CDT
DTSTART:20250309T080000
END:DAYLIGHT
BEGIN:STANDARD
TZOFFSETFROM:-0500
TZOFFSETTO:-0600
TZNAME:CST
DTSTART:20251102T070000
END:STANDARD
END:VTIMEZONE
BEGIN:VEVENT
DTSTART;TZID=America/Chicago:20240308T170000
DTEND;TZID=America/Chicago:20240308T190000
DTSTAMP:20260420T025257
CREATED:20240305T182707Z
LAST-MODIFIED:20240305T182707Z
UID:10001127-1709917200-1709924400@riverartsalliance.org
SUMMARY:Opening Reception - "Wonderment: The Industry of Youth" by Naomi Tiry Salgado at the Blue Heron
DESCRIPTION:Blue Heron Coffeehouse | 162 W 2nd St. \nAn exhibition of paintings by Naomi Tiry Salgado will be on display at the Blue Heron Coffeehouse from March 6 through May 10\, 2024. An opening reception will be held Friday\, March 8\, from 5-7 pm with an artist talk at 6 pm. Light refreshments will be served; this event is free and open to the public. In the artist’s words\, “‘Wonderment: The Industry of Youth’ is a series of oil paintings depicting very busy children and young adults going about the ‘industry’ of discovering their world.” Learn more at the artist’s website here.
URL:https://riverartsalliance.org/event/opening-reception-wonderment-the-industry-of-youth-by-naomi-tiry-salgado-at-the-blue-heron/
LOCATION:Blue Heron Coffeehouse\, 162 W 2nd St\, Winona\, MN\, 55987\, United States
END:VEVENT
BEGIN:VEVENT
DTSTART;TZID=America/Chicago:20240308T180000
DTEND;TZID=America/Chicago:20240308T193000
DTSTAMP:20260420T025257
CREATED:20240305T184336Z
LAST-MODIFIED:20240305T184336Z
UID:10001128-1709920800-1709926200@riverartsalliance.org
SUMMARY:Closing Event - Snow Piles of the Upper Mississippi
DESCRIPTION:Winona County History Center | 160 Johnson Street\nwww.winonahistory.org \nThe Winona County History Center and Art of the Rural are pleased to present a closing event\, meal\, and performance for the Snow Piles of the Upper Mississippi exhibition\, on Friday\, March 8. From 6-7 pm\, visitors can enjoy hotdish and snow cones while having their pictures taken at the Snow Pile Photo Booth by Mary Farrell. From 7-7:30 pm\, Mike Munson and Matthew Fluharty will share F20E59F75D0240D24096FA67B0476CA4 (Snow Seance)\, a sound installation and improvised musical performance. This event is free and everyone is welcome.
URL:https://riverartsalliance.org/event/closing-event-snow-piles-of-the-upper-mississippi/
LOCATION:Winona County History Center\, 160 Johnson St\, Winona\, MN\, 55987\, United States
END:VEVENT
BEGIN:VEVENT
DTSTART;TZID=America/Chicago:20240308T190000
DTEND;TZID=America/Chicago:20240308T190000
DTSTAMP:20260420T025257
CREATED:20240228T171601Z
LAST-MODIFIED:20240228T171601Z
UID:10001096-1709924400-1709924400@riverartsalliance.org
SUMMARY:WAC Film Sweet Land
DESCRIPTION:Winona Arts Center | 228 E 5th St.\nwinonaarts.org \nThe film Sweet Land will be shown on Friday\, March 8 at the Winona Arts Center. Our doors open at 6:30 pm and the cost is $5. This film is a winner of the Independent Spirit Award First Feature. Sweet Land is a lovely old-fashioned farm romance quietly doubling as a commentary on immigration and American identity. Inge is a feisty German mail-order bride who has come to Minnesota to marry Olaf\, a young Norwegian immigrant farmer of few words. In a post-WWI anti-German climate\, the local minister forbids the marriage. They fall in love despite the town’s disapproval. Olaf’s friend faces foreclosure on his farm and finally the community unites around all the farmers. English and German with subtitles. 111 minutes. Learn more.
URL:https://riverartsalliance.org/event/wac-film-sweet-land/
LOCATION:Winona Arts Center\, 228 E 5th St.\, Winona\, MN\, 55987\, United States
END:VEVENT
END:VCALENDAR