BEGIN:VCALENDAR
VERSION:2.0
PRODID:-//River Arts Alliance - ECPv6.15.20//NONSGML v1.0//EN
CALSCALE:GREGORIAN
METHOD:PUBLISH
X-WR-CALNAME:River Arts Alliance
X-ORIGINAL-URL:https://riverartsalliance.org
X-WR-CALDESC:Events for River Arts Alliance
REFRESH-INTERVAL;VALUE=DURATION:PT1H
X-Robots-Tag:noindex
X-PUBLISHED-TTL:PT1H
BEGIN:VTIMEZONE
TZID:America/Chicago
BEGIN:DAYLIGHT
TZOFFSETFROM:-0600
TZOFFSETTO:-0500
TZNAME:CDT
DTSTART:20230312T080000
END:DAYLIGHT
BEGIN:STANDARD
TZOFFSETFROM:-0500
TZOFFSETTO:-0600
TZNAME:CST
DTSTART:20231105T070000
END:STANDARD
BEGIN:DAYLIGHT
TZOFFSETFROM:-0600
TZOFFSETTO:-0500
TZNAME:CDT
DTSTART:20240310T080000
END:DAYLIGHT
BEGIN:STANDARD
TZOFFSETFROM:-0500
TZOFFSETTO:-0600
TZNAME:CST
DTSTART:20241103T070000
END:STANDARD
BEGIN:DAYLIGHT
TZOFFSETFROM:-0600
TZOFFSETTO:-0500
TZNAME:CDT
DTSTART:20250309T080000
END:DAYLIGHT
BEGIN:STANDARD
TZOFFSETFROM:-0500
TZOFFSETTO:-0600
TZNAME:CST
DTSTART:20251102T070000
END:STANDARD
END:VTIMEZONE
BEGIN:VEVENT
DTSTART;TZID=America/Chicago:20240312T190000
DTEND;TZID=America/Chicago:20240312T190000
DTSTAMP:20260420T025138
CREATED:20240228T182049Z
LAST-MODIFIED:20240228T182049Z
UID:10001105-1710270000-1710270000@riverartsalliance.org
SUMMARY:Patina at Café Congo – Fundraiser for River Arts Alliance
DESCRIPTION:First Congregational Church | 161 W Broadway St. (Johnson St. canopied entrance) \nThe band Patina will perform at Café Congo at First Congregational Church of Winona on March 12 at 7:00 pm. A freewill donation will be accepted with proceeds going to River Arts Alliance. Patina is a Celtic band performing traditional music on fiddle\, guitar\, bodhrán\, U-base\, whistles\, flute\, accordion and banjo. They’ll also play some bright and original new songs that are sure to please and have you dancing the jig in the aisle! They’re a 4-member collaboration of acoustic musicians: Connie Dretske\, Greg Peterson\, Kara Mae Prosen and Sue Lee Ringwelski. Doors will open at 6:45. The church is accessible to the mobility challenged at the canopied entrance. All are Welcome\, always! Learn more.
URL:https://riverartsalliance.org/event/patina-at-cafe-congo-fundraiser-for-river-arts-alliance/
LOCATION:First Congregational Church\, 161 W Broadway St.\, Winona\, MN\, 55987\, United States
END:VEVENT
END:VCALENDAR