BEGIN:VCALENDAR
VERSION:2.0
PRODID:-//River Arts Alliance - ECPv6.15.20//NONSGML v1.0//EN
CALSCALE:GREGORIAN
METHOD:PUBLISH
X-WR-CALNAME:River Arts Alliance
X-ORIGINAL-URL:https://riverartsalliance.org
X-WR-CALDESC:Events for River Arts Alliance
REFRESH-INTERVAL;VALUE=DURATION:PT1H
X-Robots-Tag:noindex
X-PUBLISHED-TTL:PT1H
BEGIN:VTIMEZONE
TZID:America/Chicago
BEGIN:DAYLIGHT
TZOFFSETFROM:-0600
TZOFFSETTO:-0500
TZNAME:CDT
DTSTART:20230312T080000
END:DAYLIGHT
BEGIN:STANDARD
TZOFFSETFROM:-0500
TZOFFSETTO:-0600
TZNAME:CST
DTSTART:20231105T070000
END:STANDARD
BEGIN:DAYLIGHT
TZOFFSETFROM:-0600
TZOFFSETTO:-0500
TZNAME:CDT
DTSTART:20240310T080000
END:DAYLIGHT
BEGIN:STANDARD
TZOFFSETFROM:-0500
TZOFFSETTO:-0600
TZNAME:CST
DTSTART:20241103T070000
END:STANDARD
BEGIN:DAYLIGHT
TZOFFSETFROM:-0600
TZOFFSETTO:-0500
TZNAME:CDT
DTSTART:20250309T080000
END:DAYLIGHT
BEGIN:STANDARD
TZOFFSETFROM:-0500
TZOFFSETTO:-0600
TZNAME:CST
DTSTART:20251102T070000
END:STANDARD
END:VTIMEZONE
BEGIN:VEVENT
DTSTART;TZID=America/Chicago:20240313T180000
DTEND;TZID=America/Chicago:20240313T200000
DTSTAMP:20260420T025139
CREATED:20240308T165322Z
LAST-MODIFIED:20240308T165322Z
UID:10001133-1710352800-1710360000@riverartsalliance.org
SUMMARY:Theatre du Mississippi Auditions
DESCRIPTION:Curiosi-Tea House | 901 W 5th St.\ntheatredumiss.org \nTheatre du Mississippi is holding auditions for our May show! The show is an original work by a regional playwright exploring modern themes and the experience of life in the Midwest. We are looking to cast 3-8 performers. Non-performing roles are also needed; please inquire at theatredumiss@gmail.com. Auditions are open to people of any gender\, race\, and ethnicity. Video auditions are welcome and will be accepted at theatredumiss@gmail.com before Wednesday\, March 13th. Learn more.
URL:https://riverartsalliance.org/event/theatre-du-mississippi-auditions/2024-03-13/
LOCATION:Curiosi-Tea House\, 901 W 5th St.\, Winona\, MN\, 55987\, United States
END:VEVENT
END:VCALENDAR