BEGIN:VCALENDAR
VERSION:2.0
PRODID:-//River Arts Alliance - ECPv6.15.20//NONSGML v1.0//EN
CALSCALE:GREGORIAN
METHOD:PUBLISH
X-ORIGINAL-URL:https://riverartsalliance.org
X-WR-CALDESC:Events for River Arts Alliance
REFRESH-INTERVAL;VALUE=DURATION:PT1H
X-Robots-Tag:noindex
X-PUBLISHED-TTL:PT1H
BEGIN:VTIMEZONE
TZID:America/Chicago
BEGIN:DAYLIGHT
TZOFFSETFROM:-0600
TZOFFSETTO:-0500
TZNAME:CDT
DTSTART:20230312T080000
END:DAYLIGHT
BEGIN:STANDARD
TZOFFSETFROM:-0500
TZOFFSETTO:-0600
TZNAME:CST
DTSTART:20231105T070000
END:STANDARD
BEGIN:DAYLIGHT
TZOFFSETFROM:-0600
TZOFFSETTO:-0500
TZNAME:CDT
DTSTART:20240310T080000
END:DAYLIGHT
BEGIN:STANDARD
TZOFFSETFROM:-0500
TZOFFSETTO:-0600
TZNAME:CST
DTSTART:20241103T070000
END:STANDARD
BEGIN:DAYLIGHT
TZOFFSETFROM:-0600
TZOFFSETTO:-0500
TZNAME:CDT
DTSTART:20250309T080000
END:DAYLIGHT
BEGIN:STANDARD
TZOFFSETFROM:-0500
TZOFFSETTO:-0600
TZNAME:CST
DTSTART:20251102T070000
END:STANDARD
END:VTIMEZONE
BEGIN:VEVENT
DTSTART;TZID=America/Chicago:20240316T140000
DTEND;TZID=America/Chicago:20240316T140000
DTSTAMP:20260420T025256
CREATED:20240305T190242Z
LAST-MODIFIED:20240305T190242Z
UID:10001129-1710597600-1710597600@riverartsalliance.org
SUMMARY:Sugarloaf Theatre’s Sleeping Beauty vs. the Not so Evil Fairy
DESCRIPTION:Bluffview Montessori School | 1321 Gilmore Ave.\nlinktr.ee/sugarloaftheatre \nIf you’re looking for a wholesome\, uplifting\, energetic slice of live family entertainment for all ages\, here’s your opportunity: Sleeping Beauty vs the Not so Evil Fairy presented by Sugarloaf Theatre. Buy tickets and learn more about Sugarloaf Theatre at linktr.ee/sugarloaftheatre. The show is an original play written by local teen\, Seamus Schwaba that parodies classic fairy tales. It’s lots of fun for children and children at heart. The show will be performed for the community on March 16 and 17 at Bluffview Montessori School. Tickets are $10 per person. Learn more.
URL:https://riverartsalliance.org/event/sugarloaf-theatres-sleeping-beauty-vs-the-not-so-evil-fairy/2024-03-16/1/
LOCATION:Bluffview Montessori School\, 1321 Gilmore Ave\, Winona\, MN\, 55987\, United States
END:VEVENT
BEGIN:VEVENT
DTSTART;TZID=America/Chicago:20240316T180000
DTEND;TZID=America/Chicago:20240316T180000
DTSTAMP:20260420T025256
CREATED:20240305T190242Z
LAST-MODIFIED:20240305T190242Z
UID:10001130-1710612000-1710612000@riverartsalliance.org
SUMMARY:Sugarloaf Theatre’s Sleeping Beauty vs. the Not so Evil Fairy
DESCRIPTION:Bluffview Montessori School | 1321 Gilmore Ave.\nlinktr.ee/sugarloaftheatre \nIf you’re looking for a wholesome\, uplifting\, energetic slice of live family entertainment for all ages\, here’s your opportunity: Sleeping Beauty vs the Not so Evil Fairy presented by Sugarloaf Theatre. Buy tickets and learn more about Sugarloaf Theatre at linktr.ee/sugarloaftheatre. The show is an original play written by local teen\, Seamus Schwaba that parodies classic fairy tales. It’s lots of fun for children and children at heart. The show will be performed for the community on March 16 and 17 at Bluffview Montessori School. Tickets are $10 per person. Learn more.
URL:https://riverartsalliance.org/event/sugarloaf-theatres-sleeping-beauty-vs-the-not-so-evil-fairy/2024-03-16/2/
LOCATION:Bluffview Montessori School\, 1321 Gilmore Ave\, Winona\, MN\, 55987\, United States
END:VEVENT
BEGIN:VEVENT
DTSTART;TZID=America/Chicago:20240316T180000
DTEND;TZID=America/Chicago:20240316T180000
DTSTAMP:20260420T025256
CREATED:20240305T190433Z
LAST-MODIFIED:20240305T190433Z
UID:10001132-1710612000-1710612000@riverartsalliance.org
SUMMARY:Sugarloaf Theatre’s Sleeping Beauty vs. the Not so Evil Fairy
DESCRIPTION:Bluffview Montessori School | 1321 Gilmore Ave.\nlinktr.ee/sugarloaftheatre \nIf you’re looking for a wholesome\, uplifting\, energetic slice of live family entertainment for all ages\, here’s your opportunity: Sleeping Beauty vs the Not so Evil Fairy presented by Sugarloaf Theatre. Buy tickets and learn more about Sugarloaf Theatre at linktr.ee/sugarloaftheatre. The show is an original play written by local teen\, Seamus Schwaba that parodies classic fairy tales. It’s lots of fun for children and children at heart. The show will be performed for the community on March 16 and 17 at Bluffview Montessori School. Tickets are $10 per person. Learn more.
URL:https://riverartsalliance.org/event/sugarloaf-theatres-sleeping-beauty-vs-the-not-so-evil-fairy-2/
LOCATION:Bluffview Montessori School\, 1321 Gilmore Ave\, Winona\, MN\, 55987\, United States
END:VEVENT
BEGIN:VEVENT
DTSTART;TZID=America/Chicago:20240316T190000
DTEND;TZID=America/Chicago:20240316T190000
DTSTAMP:20260420T025256
CREATED:20240228T184244Z
LAST-MODIFIED:20240228T184244Z
UID:10001118-1710615600-1710615600@riverartsalliance.org
SUMMARY:First Ladies Trilogy - Mrs. Ike & Distant Camelot
DESCRIPTION:Wild About Harry | Friday | March 15 | 7 pm\nDouble Feature: Mrs. Ike & Distant Camelot | Saturday | March 16 | 7 pm\nWinona Arts Center | 228 E 5th St.\nwinonaarts.org \nThe First Ladies Trilogy of plays by Kay Sebring-Roberts Kuhlmann will be presented at the Winona Arts Center on March 15 and 16. “Wild About Harry” stars Kay Sebring-Roberts Kuhlmann as First Lady Bess Truman. She returns in “Mrs. Ike\,” portraying first lady Mamie Doud Eisenhower. Lacey Korb stars as Jackie Kennedy in Kay’s script of “Distant Camelot.” Tickets are available on Eventbrite and are $15 for March 15\, $20 for March 16\, or $30 for a trilogy pass to both nights. Learn more.
URL:https://riverartsalliance.org/event/first-ladies-trilogy-mrs-ike-distant-camelot/
LOCATION:Winona Arts Center\, 228 E 5th St.\, Winona\, MN\, 55987\, United States
END:VEVENT
BEGIN:VEVENT
DTSTART;TZID=America/Chicago:20240316T193000
DTEND;TZID=America/Chicago:20240316T213000
DTSTAMP:20260420T025256
CREATED:20240308T171834Z
LAST-MODIFIED:20240308T171834Z
UID:10001135-1710617400-1710624600@riverartsalliance.org
SUMMARY:Winona Symphony Orchestra Spring Concert: Legends of Yesterday
DESCRIPTION:Wesley United Methodist Church | 114 W Broadway St.\nwinonasymphony.org \nJoin the Winona Symphony Orchestra for our Spring Concert featuring some of the greatest classical composers in music history! This exuberant celebration of legendary composers will be full of excitement\, drama\, and passion\, highlighting the incredible works of Beethoven\, Mozart\, and Shostakovich. Famed cellist Austin Huntington will perform the Cello Concert No. 1 by Shostakovich\, alongside the Overture to “Don Giovanni” by Mozart and Symphony No. 8 by Beethoven. The concert will take place at Wesley United Methodist Church at 7:30 pm on Saturday\, March 16 with a pre-concert talk at 7 pm. Learn more.
URL:https://riverartsalliance.org/event/winona-symphony-orchestra-spring-concert-legends-of-yesterday/
LOCATION:Wesley United Methodist Church\, 114 W Broadway St.\, Winona\, MN\, 55987\, United States
END:VEVENT
END:VCALENDAR