BEGIN:VCALENDAR
VERSION:2.0
PRODID:-//River Arts Alliance - ECPv6.15.20//NONSGML v1.0//EN
CALSCALE:GREGORIAN
METHOD:PUBLISH
X-ORIGINAL-URL:https://riverartsalliance.org
X-WR-CALDESC:Events for River Arts Alliance
REFRESH-INTERVAL;VALUE=DURATION:PT1H
X-Robots-Tag:noindex
X-PUBLISHED-TTL:PT1H
BEGIN:VTIMEZONE
TZID:America/Chicago
BEGIN:DAYLIGHT
TZOFFSETFROM:-0600
TZOFFSETTO:-0500
TZNAME:CDT
DTSTART:20230312T080000
END:DAYLIGHT
BEGIN:STANDARD
TZOFFSETFROM:-0500
TZOFFSETTO:-0600
TZNAME:CST
DTSTART:20231105T070000
END:STANDARD
BEGIN:DAYLIGHT
TZOFFSETFROM:-0600
TZOFFSETTO:-0500
TZNAME:CDT
DTSTART:20240310T080000
END:DAYLIGHT
BEGIN:STANDARD
TZOFFSETFROM:-0500
TZOFFSETTO:-0600
TZNAME:CST
DTSTART:20241103T070000
END:STANDARD
BEGIN:DAYLIGHT
TZOFFSETFROM:-0600
TZOFFSETTO:-0500
TZNAME:CDT
DTSTART:20250309T080000
END:DAYLIGHT
BEGIN:STANDARD
TZOFFSETFROM:-0500
TZOFFSETTO:-0600
TZNAME:CST
DTSTART:20251102T070000
END:STANDARD
END:VTIMEZONE
BEGIN:VEVENT
DTSTART;TZID=America/Chicago:20240317T130000
DTEND;TZID=America/Chicago:20240317T150000
DTSTAMP:20260420T025257
CREATED:20240305T180219Z
LAST-MODIFIED:20240311T220942Z
UID:10001122-1710680400-1710687600@riverartsalliance.org
SUMMARY:Andrea Shaker Reading & Audience Feedback Session at WAC
DESCRIPTION:Winona Arts Center | 228 E 5th St.\nwinonaarts.org \nUpdate 3/11/24: Please note corrected registration deadline. \nAndrea Shaker is leading a reading & audience feedback session on her current book project on Sunday\, March 17 from 1:00-3:00 at the Winona Arts Center on the lower level. This is a free event in conjunction with The Cedar Tree Project but space is limited\, so advance registration is required by March 16. You may sign up at this link. Light refreshments will be served. Learn more.
URL:https://riverartsalliance.org/event/andrea-shaker-audience-feedback-session-at-wac/
LOCATION:Winona Arts Center\, 228 E 5th St.\, Winona\, MN\, 55987\, United States
END:VEVENT
BEGIN:VEVENT
DTSTART;TZID=America/Chicago:20240317T140000
DTEND;TZID=America/Chicago:20240317T140000
DTSTAMP:20260420T025257
CREATED:20240305T190242Z
LAST-MODIFIED:20240305T190242Z
UID:10001131-1710684000-1710684000@riverartsalliance.org
SUMMARY:Sugarloaf Theatre’s Sleeping Beauty vs. the Not so Evil Fairy
DESCRIPTION:Bluffview Montessori School | 1321 Gilmore Ave.\nlinktr.ee/sugarloaftheatre \nIf you’re looking for a wholesome\, uplifting\, energetic slice of live family entertainment for all ages\, here’s your opportunity: Sleeping Beauty vs the Not so Evil Fairy presented by Sugarloaf Theatre. Buy tickets and learn more about Sugarloaf Theatre at linktr.ee/sugarloaftheatre. The show is an original play written by local teen\, Seamus Schwaba that parodies classic fairy tales. It’s lots of fun for children and children at heart. The show will be performed for the community on March 16 and 17 at Bluffview Montessori School. Tickets are $10 per person. Learn more.
URL:https://riverartsalliance.org/event/sugarloaf-theatres-sleeping-beauty-vs-the-not-so-evil-fairy/2024-03-17/
LOCATION:Bluffview Montessori School\, 1321 Gilmore Ave\, Winona\, MN\, 55987\, United States
END:VEVENT
BEGIN:VEVENT
DTSTART;TZID=America/Chicago:20240317T143000
DTEND;TZID=America/Chicago:20240317T173000
DTSTAMP:20260420T025257
CREATED:20240308T175127Z
LAST-MODIFIED:20240308T175127Z
UID:10001136-1710685800-1710696600@riverartsalliance.org
SUMMARY:March Jazz Jam Supports Misato Student Ambassadors
DESCRIPTION:Island City Brewing Company | 65 E Front St.\nH3OJazz.com \nThis month’s Jazz Jam celebrates with the Winona International Friendship Center as they prepare to send a group of students to Winona’s Japanese sister city\, Misato. The monthly Jazz Jam takes place in the taproom at Island City Brewing Company on Sunday\, March 17 from 2:30 – 5:30 p.m. \nH3O Jazz Trio and Island City Brewing have helped support local nonprofits with over $45\,000 in total donations thanks to the generosity of Jazz Jam patrons! The February Jazz Jam contributed over $2\,000 in support of the Winona Symphony Orchestra’s annual Children’s Concert. All Jazz Jam donations are matched by H3O and Island City. Everyone wishing to sing\, play\, or cheer on their friends is welcome to join the H3O Jazz Trio at Island City Brewing Company’s monthly Jazz Jam! Learn more.
URL:https://riverartsalliance.org/event/march-jazz-jam-supports-misato-student-ambassadors/
LOCATION:Island City Brewing Company\, 65 E Front St\, Winona\, MN\, 55987\, United States
END:VEVENT
END:VCALENDAR