BEGIN:VCALENDAR
VERSION:2.0
PRODID:-//River Arts Alliance - ECPv6.15.20//NONSGML v1.0//EN
CALSCALE:GREGORIAN
METHOD:PUBLISH
X-ORIGINAL-URL:https://riverartsalliance.org
X-WR-CALDESC:Events for River Arts Alliance
REFRESH-INTERVAL;VALUE=DURATION:PT1H
X-Robots-Tag:noindex
X-PUBLISHED-TTL:PT1H
BEGIN:VTIMEZONE
TZID:America/Chicago
BEGIN:DAYLIGHT
TZOFFSETFROM:-0600
TZOFFSETTO:-0500
TZNAME:CDT
DTSTART:20230312T080000
END:DAYLIGHT
BEGIN:STANDARD
TZOFFSETFROM:-0500
TZOFFSETTO:-0600
TZNAME:CST
DTSTART:20231105T070000
END:STANDARD
BEGIN:DAYLIGHT
TZOFFSETFROM:-0600
TZOFFSETTO:-0500
TZNAME:CDT
DTSTART:20240310T080000
END:DAYLIGHT
BEGIN:STANDARD
TZOFFSETFROM:-0500
TZOFFSETTO:-0600
TZNAME:CST
DTSTART:20241103T070000
END:STANDARD
BEGIN:DAYLIGHT
TZOFFSETFROM:-0600
TZOFFSETTO:-0500
TZNAME:CDT
DTSTART:20250309T080000
END:DAYLIGHT
BEGIN:STANDARD
TZOFFSETFROM:-0500
TZOFFSETTO:-0600
TZNAME:CST
DTSTART:20251102T070000
END:STANDARD
END:VTIMEZONE
BEGIN:VEVENT
DTSTART;TZID=America/Chicago:20240322T180000
DTEND;TZID=America/Chicago:20240322T200000
DTSTAMP:20260420T025256
CREATED:20240319T164124Z
LAST-MODIFIED:20240319T164124Z
UID:10001137-1711130400-1711137600@riverartsalliance.org
SUMMARY:Unwind Friday with H3O Jazz Trio
DESCRIPTION:Blooming Grounds Coffee House | 50 E 3rd St.\nH3OJazz.com \nIn 2023\, Unwind Friday with H3O Jazz Trio offered a relaxing way to end the week\, meet with friends\, and enjoy the exceptional menu at Blooming Grounds Coffeehouse. On Friday\, March 22 from 6 – 8 pm\, Unwind Friday returns to Blooming Grounds main location\, 50 E 3rd Street\, Winona. Come and enjoy a full menu of delicious offerings\, beer and wine\, coffee drinks\, and amazing desserts … all with no cover charge! Learn more.
URL:https://riverartsalliance.org/event/unwind-friday-with-h3o-jazz-trio/
LOCATION:Blooming Grounds Coffee House\, 50 E 3rd St.\, Winona\, MN\, 55987\, United States
END:VEVENT
BEGIN:VEVENT
DTSTART;TZID=America/Chicago:20240322T190000
DTEND;TZID=America/Chicago:20240322T190000
DTSTAMP:20260420T025256
CREATED:20240319T164408Z
LAST-MODIFIED:20240319T164408Z
UID:10001138-1711134000-1711134000@riverartsalliance.org
SUMMARY:WAC Film Before\, Now & Then
DESCRIPTION:Winona Arts Center | 228 E 5th St.\nwinonaarts.org \nThe film Before\, Now & Then will be shown on Friday\, March 22 at 7 pm at the Winona Arts Center\, 228 E 5th St.\, Winona. The film is a daring narrative mix of personal and the political as it tells the story of the beautiful wife of a wealthy plantation owner who values her safety and material comforts. She carries out a haunted existence\, dreaming of her lost love who was murdered during the Indonesian Revolution. She makes an unusual connection with her husband’s younger mistress and the two women find a newfound freedom. Directed by Kamila Andini. Indonesian with English subtitles\, 103 minutes. Learn more.
URL:https://riverartsalliance.org/event/wac-film-before-now-then/
LOCATION:Winona Arts Center\, 228 E 5th St.\, Winona\, MN\, 55987\, United States
END:VEVENT
END:VCALENDAR