BEGIN:VCALENDAR
VERSION:2.0
PRODID:-//River Arts Alliance - ECPv6.15.20//NONSGML v1.0//EN
CALSCALE:GREGORIAN
METHOD:PUBLISH
X-WR-CALNAME:River Arts Alliance
X-ORIGINAL-URL:https://riverartsalliance.org
X-WR-CALDESC:Events for River Arts Alliance
REFRESH-INTERVAL;VALUE=DURATION:PT1H
X-Robots-Tag:noindex
X-PUBLISHED-TTL:PT1H
BEGIN:VTIMEZONE
TZID:America/Chicago
BEGIN:DAYLIGHT
TZOFFSETFROM:-0600
TZOFFSETTO:-0500
TZNAME:CDT
DTSTART:20230312T080000
END:DAYLIGHT
BEGIN:STANDARD
TZOFFSETFROM:-0500
TZOFFSETTO:-0600
TZNAME:CST
DTSTART:20231105T070000
END:STANDARD
BEGIN:DAYLIGHT
TZOFFSETFROM:-0600
TZOFFSETTO:-0500
TZNAME:CDT
DTSTART:20240310T080000
END:DAYLIGHT
BEGIN:STANDARD
TZOFFSETFROM:-0500
TZOFFSETTO:-0600
TZNAME:CST
DTSTART:20241103T070000
END:STANDARD
BEGIN:DAYLIGHT
TZOFFSETFROM:-0600
TZOFFSETTO:-0500
TZNAME:CDT
DTSTART:20250309T080000
END:DAYLIGHT
BEGIN:STANDARD
TZOFFSETFROM:-0500
TZOFFSETTO:-0600
TZNAME:CST
DTSTART:20251102T070000
END:STANDARD
END:VTIMEZONE
BEGIN:VEVENT
DTSTART;TZID=America/Chicago:20240324T160000
DTEND;TZID=America/Chicago:20240324T160000
DTSTAMP:20260420T025139
CREATED:20240320T201126Z
LAST-MODIFIED:20240320T201126Z
UID:10000330-1711296000-1711296000@riverartsalliance.org
SUMMARY:Heidi Bryant and Meredith Mihm at Café Congo
DESCRIPTION:First Congregational Church | 161 W Broadway St. (Johnson St. canopied entrance) \nHeidi Bryant and Meredith Mihm will perform at Café Congo at First Congregational Church on Sunday\, March 24 at 4 pm. A freewill donation will be accepted with proceeds benefiting the Winona Immigration Network. Heidi and Meredith began their musical collaboration in the summer of 2022. They have performed at Faith Lutheran Church\, the Blue Heron Coffeehouse\, and MMAM. \nThe program for Café Congo features three movements from the “Suite for Flute and Jazz Piano” by Claude Bolling\, made popular in the 1970s by Jean Pierre Rampal. Meredith will perform the Siloti/Busoni piano transcription of Bach’s D minor “Chaconne” for solo violin. Additional flute/piano pieces include contemporary composer/flutist Valerie Coleman’s “Requiem Milonga\,” Lukas Foss’ “Three American Pieces\,” and Franz Doppler’s “Andante” and “Rondo” for two flutes with special guest Dr. Rachel Haug. Learn more.
URL:https://riverartsalliance.org/event/heidi-bryant-and-meredith-mihm-at-cafe-congo/
LOCATION:First Congregational Church\, 161 W Broadway St.\, Winona\, MN\, 55987\, United States
END:VEVENT
END:VCALENDAR