BEGIN:VCALENDAR
VERSION:2.0
PRODID:-//River Arts Alliance - ECPv6.15.20//NONSGML v1.0//EN
CALSCALE:GREGORIAN
METHOD:PUBLISH
X-WR-CALNAME:River Arts Alliance
X-ORIGINAL-URL:https://riverartsalliance.org
X-WR-CALDESC:Events for River Arts Alliance
REFRESH-INTERVAL;VALUE=DURATION:PT1H
X-Robots-Tag:noindex
X-PUBLISHED-TTL:PT1H
BEGIN:VTIMEZONE
TZID:America/Chicago
BEGIN:DAYLIGHT
TZOFFSETFROM:-0600
TZOFFSETTO:-0500
TZNAME:CDT
DTSTART:20230312T080000
END:DAYLIGHT
BEGIN:STANDARD
TZOFFSETFROM:-0500
TZOFFSETTO:-0600
TZNAME:CST
DTSTART:20231105T070000
END:STANDARD
BEGIN:DAYLIGHT
TZOFFSETFROM:-0600
TZOFFSETTO:-0500
TZNAME:CDT
DTSTART:20240310T080000
END:DAYLIGHT
BEGIN:STANDARD
TZOFFSETFROM:-0500
TZOFFSETTO:-0600
TZNAME:CST
DTSTART:20241103T070000
END:STANDARD
BEGIN:DAYLIGHT
TZOFFSETFROM:-0600
TZOFFSETTO:-0500
TZNAME:CDT
DTSTART:20250309T080000
END:DAYLIGHT
BEGIN:STANDARD
TZOFFSETFROM:-0500
TZOFFSETTO:-0600
TZNAME:CST
DTSTART:20251102T070000
END:STANDARD
END:VTIMEZONE
BEGIN:VEVENT
DTSTART;TZID=America/Chicago:20240402T190000
DTEND;TZID=America/Chicago:20240402T190000
DTSTAMP:20260420T012759
CREATED:20240322T183558Z
LAST-MODIFIED:20240322T183558Z
UID:10000337-1712084400-1712084400@riverartsalliance.org
SUMMARY:Laureate Writers Series Presents J.P. White
DESCRIPTION:Blue Heron Coffeehouse | 162 W 2nd St. \nJ.P. White\, who has distinguished himself as one of Minnesota’s most dedicated writers for the past 40 years\, will be the featured guest for the April 2 Laureates Writers Series. White will read from and discuss his writing life at the Blue Heron Coffeehouse\, beginning at 7 pm. \nWhite established a strong Minnesota presence as a writer in the 1970’s\, but has had work published in national journals as well. His essays\, fiction\, reviews\, interviews and poetry have appeared in The Nation\, The New Republic\, The Gettysburg Review\, The North American Review\, Prairie Schooner\, Sewanee Review\, The Georgia Review\, Southern Review\, The Massachusetts Review\, The New York Times\, Alaska Quarterly Review and many other journals. Following White’s presentation members of the community are welcome to read a short selection of their own work for the open mic part of the program. Learn more.
URL:https://riverartsalliance.org/event/laureate-writers-series-presents-j-p-white/
LOCATION:Blue Heron Coffeehouse\, 162 W 2nd St\, Winona\, MN\, 55987\, United States
END:VEVENT
END:VCALENDAR