BEGIN:VCALENDAR
VERSION:2.0
PRODID:-//River Arts Alliance - ECPv6.15.20//NONSGML v1.0//EN
CALSCALE:GREGORIAN
METHOD:PUBLISH
X-ORIGINAL-URL:https://riverartsalliance.org
X-WR-CALDESC:Events for River Arts Alliance
REFRESH-INTERVAL;VALUE=DURATION:PT1H
X-Robots-Tag:noindex
X-PUBLISHED-TTL:PT1H
BEGIN:VTIMEZONE
TZID:America/Chicago
BEGIN:DAYLIGHT
TZOFFSETFROM:-0600
TZOFFSETTO:-0500
TZNAME:CDT
DTSTART:20230312T080000
END:DAYLIGHT
BEGIN:STANDARD
TZOFFSETFROM:-0500
TZOFFSETTO:-0600
TZNAME:CST
DTSTART:20231105T070000
END:STANDARD
BEGIN:DAYLIGHT
TZOFFSETFROM:-0600
TZOFFSETTO:-0500
TZNAME:CDT
DTSTART:20240310T080000
END:DAYLIGHT
BEGIN:STANDARD
TZOFFSETFROM:-0500
TZOFFSETTO:-0600
TZNAME:CST
DTSTART:20241103T070000
END:STANDARD
BEGIN:DAYLIGHT
TZOFFSETFROM:-0600
TZOFFSETTO:-0500
TZNAME:CDT
DTSTART:20250309T080000
END:DAYLIGHT
BEGIN:STANDARD
TZOFFSETFROM:-0500
TZOFFSETTO:-0600
TZNAME:CST
DTSTART:20251102T070000
END:STANDARD
END:VTIMEZONE
BEGIN:VEVENT
DTSTART;TZID=America/Chicago:20240412T190000
DTEND;TZID=America/Chicago:20240412T220000
DTSTAMP:20260420T012855
CREATED:20240403T154135Z
LAST-MODIFIED:20240403T154135Z
UID:10001148-1712948400-1712959200@riverartsalliance.org
SUMMARY:WCHC’s “History is Present” Party
DESCRIPTION:Winona County History Center | 160 Johnson St.\nwinonahistory.org \nThe Winona County History Center invites the public to an incredible evening at the History Is Present capital campaign event! Join in the fun on Friday\, April 12\, 7 to 10 pm\, at the Winona County History Center in Winona\, Minnesota. First\, members of the Winona County Historical Society are invited to gather for the 89th annual meeting on April 12 at 6 pm. Everyone is welcome to the free party at 7 pm! The event will include food from Steak Shop Catering\, a cash bar from Muddled Thyme\, a live auction\, tours\, music by Patina\, and more. Learn more.
URL:https://riverartsalliance.org/event/wchcs-history-is-present-party/
LOCATION:Winona County History Center\, 160 Johnson St\, Winona\, MN\, 55987\, United States
END:VEVENT
END:VCALENDAR