BEGIN:VCALENDAR
VERSION:2.0
PRODID:-//River Arts Alliance - ECPv6.15.20//NONSGML v1.0//EN
CALSCALE:GREGORIAN
METHOD:PUBLISH
X-WR-CALNAME:River Arts Alliance
X-ORIGINAL-URL:https://riverartsalliance.org
X-WR-CALDESC:Events for River Arts Alliance
REFRESH-INTERVAL;VALUE=DURATION:PT1H
X-Robots-Tag:noindex
X-PUBLISHED-TTL:PT1H
BEGIN:VTIMEZONE
TZID:America/Chicago
BEGIN:DAYLIGHT
TZOFFSETFROM:-0600
TZOFFSETTO:-0500
TZNAME:CDT
DTSTART:20230312T080000
END:DAYLIGHT
BEGIN:STANDARD
TZOFFSETFROM:-0500
TZOFFSETTO:-0600
TZNAME:CST
DTSTART:20231105T070000
END:STANDARD
BEGIN:DAYLIGHT
TZOFFSETFROM:-0600
TZOFFSETTO:-0500
TZNAME:CDT
DTSTART:20240310T080000
END:DAYLIGHT
BEGIN:STANDARD
TZOFFSETFROM:-0500
TZOFFSETTO:-0600
TZNAME:CST
DTSTART:20241103T070000
END:STANDARD
BEGIN:DAYLIGHT
TZOFFSETFROM:-0600
TZOFFSETTO:-0500
TZNAME:CDT
DTSTART:20250309T080000
END:DAYLIGHT
BEGIN:STANDARD
TZOFFSETFROM:-0500
TZOFFSETTO:-0600
TZNAME:CST
DTSTART:20251102T070000
END:STANDARD
END:VTIMEZONE
BEGIN:VEVENT
DTSTART;TZID=America/Chicago:20240413T120000
DTEND;TZID=America/Chicago:20240413T160000
DTSTAMP:20260420T012802
CREATED:20240409T172344Z
LAST-MODIFIED:20240409T172344Z
UID:10001152-1713009600-1713024000@riverartsalliance.org
SUMMARY:Acrylic Painting Class at WAC
DESCRIPTION:Winona Arts Center | 228 E 5th St.\nwinonaarts.org \nThe Winona Arts Center will host an Acrylic Painting class with Barb Halvorson on Saturday\, April 13\, 2024 from 12:00-4:00 pm. We will be painting a yellow finch on an actual leaf just in time for spring! Beginner to adult painters are welcome – no experience needed. All supplies are furnished. Cost is $40 for WAC members and $45 for non-members. Learn more.
URL:https://riverartsalliance.org/event/acrylic-painting-class-at-wac/
LOCATION:Winona Arts Center\, 228 E 5th St.\, Winona\, MN\, 55987\, United States
END:VEVENT
BEGIN:VEVENT
DTSTART;TZID=America/Chicago:20240413T190000
DTEND;TZID=America/Chicago:20240413T190000
DTSTAMP:20260420T012802
CREATED:20240409T174504Z
LAST-MODIFIED:20240409T174504Z
UID:10001154-1713034800-1713034800@riverartsalliance.org
SUMMARY:Chris Koza Duo Concert at WAC
DESCRIPTION:Winona Arts Center | 228 E 5th St.\nwinonaarts.org \nChris Koza & Peter Sieve will perform a concert at 7 pm Saturday\, April 13 at the Winona Arts Center. Doors open at 6 pm for coffeehouse and gallery viewing. The cost is $15 in advance or $20 at the door. Tickets are available at Music Mart (formerly Hardt’s Music) until 5 pm on Friday\, April 12 or online at Eventbrite. Composer/performer Chris Koza is an internationally-recognized Americana artist who utilizes a wide range of textures to create music rooted in folk\, pop\, and storytelling. Longtime friend and guitarist Peter Sieve joins Chris for a stretch of duo dates this spring\, throughout the Midwest and Colorado. Learn more.
URL:https://riverartsalliance.org/event/chris-koza-duo-concert-at-wac/
LOCATION:Winona Arts Center\, 228 E 5th St.\, Winona\, MN\, 55987\, United States
END:VEVENT
END:VCALENDAR