BEGIN:VCALENDAR
VERSION:2.0
PRODID:-//River Arts Alliance - ECPv6.15.20//NONSGML v1.0//EN
CALSCALE:GREGORIAN
METHOD:PUBLISH
X-ORIGINAL-URL:https://riverartsalliance.org
X-WR-CALDESC:Events for River Arts Alliance
REFRESH-INTERVAL;VALUE=DURATION:PT1H
X-Robots-Tag:noindex
X-PUBLISHED-TTL:PT1H
BEGIN:VTIMEZONE
TZID:America/Chicago
BEGIN:DAYLIGHT
TZOFFSETFROM:-0600
TZOFFSETTO:-0500
TZNAME:CDT
DTSTART:20230312T080000
END:DAYLIGHT
BEGIN:STANDARD
TZOFFSETFROM:-0500
TZOFFSETTO:-0600
TZNAME:CST
DTSTART:20231105T070000
END:STANDARD
BEGIN:DAYLIGHT
TZOFFSETFROM:-0600
TZOFFSETTO:-0500
TZNAME:CDT
DTSTART:20240310T080000
END:DAYLIGHT
BEGIN:STANDARD
TZOFFSETFROM:-0500
TZOFFSETTO:-0600
TZNAME:CST
DTSTART:20241103T070000
END:STANDARD
BEGIN:DAYLIGHT
TZOFFSETFROM:-0600
TZOFFSETTO:-0500
TZNAME:CDT
DTSTART:20250309T080000
END:DAYLIGHT
BEGIN:STANDARD
TZOFFSETFROM:-0500
TZOFFSETTO:-0600
TZNAME:CST
DTSTART:20251102T070000
END:STANDARD
END:VTIMEZONE
BEGIN:VEVENT
DTSTART;TZID=America/Chicago:20240421T143000
DTEND;TZID=America/Chicago:20240421T173000
DTSTAMP:20260420T012932
CREATED:20240410T162817Z
LAST-MODIFIED:20240410T162817Z
UID:10001161-1713709800-1713720600@riverartsalliance.org
SUMMARY:April Jazz Jam Supports SLIPA
DESCRIPTION:Two Fathoms Brewing | 65 E Front St.\nH3OJazz.com \nThis month’s Jazz Jam is partnering with the Spanish Language Immersion Program Association (SLIPA) to support interns in the Ríos program. The monthly Jazz Jam takes place outside on the spacious patio at Two Fathoms Brewing Company or in the taproom if weather is bad on Sunday\, April 21 from 2:30 – 5:30 pm. \nEveryone wishing to sing\, play\, or cheer on their friends is welcome to join the H3O Jazz Trio at Two Fathoms Brewing Company’s monthly Jazz Jam! H3O Jazz Trio and Two Fathoms Brewing (formerly Island City) have helped support local nonprofits with over $46\,000 in total donations thanks to the generosity of Jazz Jam patrons! The March Jazz Jam contributed over $1\,300 in support of the Winona International Friendship Association and the student ambassadors traveling to Winona’s sister city Misato\, Japan this month. All Jazz Jam donations are matched by H3O and Two Fathoms. Learn more.
URL:https://riverartsalliance.org/event/april-jazz-jam-supports-slipa/
LOCATION:Two Fathoms Brewing\, 65 E Front St.\, Winona\, MN\, 55987\, United States
END:VEVENT
END:VCALENDAR