BEGIN:VCALENDAR
VERSION:2.0
PRODID:-//River Arts Alliance - ECPv6.15.20//NONSGML v1.0//EN
CALSCALE:GREGORIAN
METHOD:PUBLISH
X-ORIGINAL-URL:https://riverartsalliance.org
X-WR-CALDESC:Events for River Arts Alliance
REFRESH-INTERVAL;VALUE=DURATION:PT1H
X-Robots-Tag:noindex
X-PUBLISHED-TTL:PT1H
BEGIN:VTIMEZONE
TZID:America/Chicago
BEGIN:DAYLIGHT
TZOFFSETFROM:-0600
TZOFFSETTO:-0500
TZNAME:CDT
DTSTART:20230312T080000
END:DAYLIGHT
BEGIN:STANDARD
TZOFFSETFROM:-0500
TZOFFSETTO:-0600
TZNAME:CST
DTSTART:20231105T070000
END:STANDARD
BEGIN:DAYLIGHT
TZOFFSETFROM:-0600
TZOFFSETTO:-0500
TZNAME:CDT
DTSTART:20240310T080000
END:DAYLIGHT
BEGIN:STANDARD
TZOFFSETFROM:-0500
TZOFFSETTO:-0600
TZNAME:CST
DTSTART:20241103T070000
END:STANDARD
BEGIN:DAYLIGHT
TZOFFSETFROM:-0600
TZOFFSETTO:-0500
TZNAME:CDT
DTSTART:20250309T080000
END:DAYLIGHT
BEGIN:STANDARD
TZOFFSETFROM:-0500
TZOFFSETTO:-0600
TZNAME:CST
DTSTART:20251102T070000
END:STANDARD
END:VTIMEZONE
BEGIN:VEVENT
DTSTART;TZID=America/Chicago:20240427T100000
DTEND;TZID=America/Chicago:20240427T170000
DTSTAMP:20260420T012855
CREATED:20240423T185826Z
LAST-MODIFIED:20240423T185826Z
UID:10001165-1714212000-1714237200@riverartsalliance.org
SUMMARY:Bluff Country Studio Art Tour 2024
DESCRIPTION:Various Locations in Southeastern MN\nbluffcountrystudioarttour.org \nThe 2024 Bluff Country Studio Art Tour will take place Friday\, April 26\, through Sunday\, April 28. River Arts Alliance serves as fiscal sponsor of this event\, and several RAA member artists are participating in the tour. Learn more and see a map of locations at bluffcountrystudioarttour.org.
URL:https://riverartsalliance.org/event/bluff-country-studio-art-tour-2024/2024-04-27/
LOCATION:MN
END:VEVENT
BEGIN:VEVENT
DTSTART;TZID=America/Chicago:20240427T190000
DTEND;TZID=America/Chicago:20240427T190000
DTSTAMP:20260420T012855
CREATED:20240423T194206Z
LAST-MODIFIED:20240423T194206Z
UID:10001183-1714244400-1714244400@riverartsalliance.org
SUMMARY:The Swamp Poppas Concert at WAC
DESCRIPTION:Winona Arts Center | 228 E 5th St.\nwinonaarts.org \nThe Swamp Poppas\, a Minneapolis premier Louisiana Swamp band\, will perform a concert at 7 pm on April 27 at Winona Arts Center. This is our last concert of the spring season. We have a liquor license and will be serving wine\, beer\, and some Cajun treats. Let the Good Times Roll! \nDoors open at 6 pm for coffeehouse and gallery viewing. Cost is $20 in advance and $25 at the door. Tickets are available at Music Mart (formerly Hardt’s Music) or online at Eventbrite. Swamp Pop is a mix of Louisiana Cajun\, Zydeco\, blues\, rock\, and country; the influences over the years are many and the mix gives you a rockin’ good time. Learn more.
URL:https://riverartsalliance.org/event/the-swamp-poppas-concert-at-wac/
LOCATION:Winona Arts Center\, 228 E 5th St.\, Winona\, MN\, 55987\, United States
END:VEVENT
END:VCALENDAR