BEGIN:VCALENDAR
VERSION:2.0
PRODID:-//River Arts Alliance - ECPv6.15.20//NONSGML v1.0//EN
CALSCALE:GREGORIAN
METHOD:PUBLISH
X-WR-CALNAME:River Arts Alliance
X-ORIGINAL-URL:https://riverartsalliance.org
X-WR-CALDESC:Events for River Arts Alliance
REFRESH-INTERVAL;VALUE=DURATION:PT1H
X-Robots-Tag:noindex
X-PUBLISHED-TTL:PT1H
BEGIN:VTIMEZONE
TZID:America/Chicago
BEGIN:DAYLIGHT
TZOFFSETFROM:-0600
TZOFFSETTO:-0500
TZNAME:CDT
DTSTART:20230312T080000
END:DAYLIGHT
BEGIN:STANDARD
TZOFFSETFROM:-0500
TZOFFSETTO:-0600
TZNAME:CST
DTSTART:20231105T070000
END:STANDARD
BEGIN:DAYLIGHT
TZOFFSETFROM:-0600
TZOFFSETTO:-0500
TZNAME:CDT
DTSTART:20240310T080000
END:DAYLIGHT
BEGIN:STANDARD
TZOFFSETFROM:-0500
TZOFFSETTO:-0600
TZNAME:CST
DTSTART:20241103T070000
END:STANDARD
BEGIN:DAYLIGHT
TZOFFSETFROM:-0600
TZOFFSETTO:-0500
TZNAME:CDT
DTSTART:20250309T080000
END:DAYLIGHT
BEGIN:STANDARD
TZOFFSETFROM:-0500
TZOFFSETTO:-0600
TZNAME:CST
DTSTART:20251102T070000
END:STANDARD
END:VTIMEZONE
BEGIN:VEVENT
DTSTART;TZID=America/Chicago:20240505T120000
DTEND;TZID=America/Chicago:20240505T150000
DTSTAMP:20260419T235140
CREATED:20240501T155546Z
LAST-MODIFIED:20240501T155546Z
UID:10001198-1714910400-1714921200@riverartsalliance.org
SUMMARY:Patina at Kinstone
DESCRIPTION:Kinstone | S3439 Cole Bluff Lane | Fountain City\, WI\npatinatheband.com \nCome enjoy Patina at Kinstone on May 5 beginning at noon and playing until 3:00 pm. Patina is a four member Celtic band. Kara Mae Prosen plays fiddle and sings vocals\, Connie Dretske plays bass\, whistle\, flute\, and sings vocals. Sue Lee Ringwelski plays guitar\, banjo\, and sings vocals. Greg Peterson plays bodhran\, whistles\, accordion and guitar.
URL:https://riverartsalliance.org/event/patina-at-kinstone/
LOCATION:Kinstone\, S3439 Cole Bluff Lane\, Fountain City\, WI\, 54629\, United States
END:VEVENT
BEGIN:VEVENT
DTSTART;TZID=America/Chicago:20240505T150000
DTEND;TZID=America/Chicago:20240505T150000
DTSTAMP:20260419T235140
CREATED:20240501T161314Z
LAST-MODIFIED:20240501T161314Z
UID:10000346-1714921200-1714921200@riverartsalliance.org
SUMMARY:Winona Brass Band Season Finale
DESCRIPTION:Central Lutheran Church | 259 W Wabasha St.\nfacebook.com/winonabrassband \nThe Winona Brass Band will conclude their 30th Anniversary Season with a celebratory concert at Central Lutheran Church on Sunday\, May 5 at 3:00 pm. The Brass Band and Central Lutheran’s Hendrickson Pipe Organ are each celebrating 30 years of great music. To honor these two anniversaries\, the performance will highlight music for brass band and organ. The concert is free and open to all. Donations will be accepted in support of the Winona Brass Band’s next decade. A reception will follow immediately after the concert in the adjacent Grace Hall. Learn more.
URL:https://riverartsalliance.org/event/winona-brass-band-season-finale/
LOCATION:Central Lutheran Church\, 259 W Wabasha St.\, Winona\, MN\, 55987\, United States
END:VEVENT
BEGIN:VEVENT
DTSTART;TZID=America/Chicago:20240505T150000
DTEND;TZID=America/Chicago:20240505T163000
DTSTAMP:20260419T235140
CREATED:20240501T160511Z
LAST-MODIFIED:20240501T160511Z
UID:10000344-1714921200-1714926600@riverartsalliance.org
SUMMARY:Classical Norway Concert at Old Main
DESCRIPTION:Old Main Cultural Center | 20869 College Ave. | Galesville\, WI\noldmaingalesville.com \nThe Fagernes Sons of Norway will help the Old Main Cultural Center in Galesville present a “Classical Norway” concert Sunday\, May 5 at 3:00 pm to remember the music program offered by Gale College\, operated by the Norwegian Lutheran Church from 1901 to 1938. The Fagernes Sons of Norway Singers will sing a framework of folk songs for the classical program that Dr. Pamela Kelly\, pianist\, and Alyssa Gaines\, flutist\, will bring to the event. A reception will follow that includes Rommegrot\, Norwegian baked treats\, and open-faced sandwiches. The event will help raise funds to support the musical program the “Gale Star” committee at Old Main continues to offer and to remember the Norwegian heritage of Gale College. Learn more.
URL:https://riverartsalliance.org/event/classical-norway-concert-at-old-main/
LOCATION:Old Main Cultural Center\, 20869 S College Ave.\, Galesville\, WI\, 54630\, United States
END:VEVENT
END:VCALENDAR