BEGIN:VCALENDAR
VERSION:2.0
PRODID:-//River Arts Alliance - ECPv6.15.20//NONSGML v1.0//EN
CALSCALE:GREGORIAN
METHOD:PUBLISH
X-WR-CALNAME:River Arts Alliance
X-ORIGINAL-URL:https://riverartsalliance.org
X-WR-CALDESC:Events for River Arts Alliance
REFRESH-INTERVAL;VALUE=DURATION:PT1H
X-Robots-Tag:noindex
X-PUBLISHED-TTL:PT1H
BEGIN:VTIMEZONE
TZID:America/Chicago
BEGIN:DAYLIGHT
TZOFFSETFROM:-0600
TZOFFSETTO:-0500
TZNAME:CDT
DTSTART:20230312T080000
END:DAYLIGHT
BEGIN:STANDARD
TZOFFSETFROM:-0500
TZOFFSETTO:-0600
TZNAME:CST
DTSTART:20231105T070000
END:STANDARD
BEGIN:DAYLIGHT
TZOFFSETFROM:-0600
TZOFFSETTO:-0500
TZNAME:CDT
DTSTART:20240310T080000
END:DAYLIGHT
BEGIN:STANDARD
TZOFFSETFROM:-0500
TZOFFSETTO:-0600
TZNAME:CST
DTSTART:20241103T070000
END:STANDARD
BEGIN:DAYLIGHT
TZOFFSETFROM:-0600
TZOFFSETTO:-0500
TZNAME:CDT
DTSTART:20250309T080000
END:DAYLIGHT
BEGIN:STANDARD
TZOFFSETFROM:-0500
TZOFFSETTO:-0600
TZNAME:CST
DTSTART:20251102T070000
END:STANDARD
END:VTIMEZONE
BEGIN:VEVENT
DTSTART;TZID=America/Chicago:20240507T190000
DTEND;TZID=America/Chicago:20240507T190000
DTSTAMP:20260419T235102
CREATED:20240507T233351Z
LAST-MODIFIED:20240507T233351Z
UID:10000360-1715108400-1715108400@riverartsalliance.org
SUMMARY:Laureate Writers Series Celebrates New Book Chiaroscuro
DESCRIPTION:Blue Heron Coffeehouse | 162 W 2nd St. \nThe Laureate Writers Series reading at the Blue Heron Coffeehouse on Tuesday\, May 7 at 7:00 pm will celebrate the release of the new book Chiaroscuro. The event is free and open to the public. The book features selected poems by Peter W. Denzer with lino prints by Maria Denzer\, Delia Bell\, the Denzer family\, and friends. It has been published by Shipwreckt Books Publishing Company of Winona as part of the Up On Big Rock Poetry Series. Learn more.
URL:https://riverartsalliance.org/event/laureate-writers-series-celebrates-new-book-chiaroscuro/
LOCATION:Blue Heron Coffeehouse\, 162 W 2nd St\, Winona\, MN\, 55987\, United States
END:VEVENT
END:VCALENDAR