BEGIN:VCALENDAR
VERSION:2.0
PRODID:-//River Arts Alliance - ECPv6.15.20//NONSGML v1.0//EN
CALSCALE:GREGORIAN
METHOD:PUBLISH
X-WR-CALNAME:River Arts Alliance
X-ORIGINAL-URL:https://riverartsalliance.org
X-WR-CALDESC:Events for River Arts Alliance
REFRESH-INTERVAL;VALUE=DURATION:PT1H
X-Robots-Tag:noindex
X-PUBLISHED-TTL:PT1H
BEGIN:VTIMEZONE
TZID:America/Chicago
BEGIN:DAYLIGHT
TZOFFSETFROM:-0600
TZOFFSETTO:-0500
TZNAME:CDT
DTSTART:20230312T080000
END:DAYLIGHT
BEGIN:STANDARD
TZOFFSETFROM:-0500
TZOFFSETTO:-0600
TZNAME:CST
DTSTART:20231105T070000
END:STANDARD
BEGIN:DAYLIGHT
TZOFFSETFROM:-0600
TZOFFSETTO:-0500
TZNAME:CDT
DTSTART:20240310T080000
END:DAYLIGHT
BEGIN:STANDARD
TZOFFSETFROM:-0500
TZOFFSETTO:-0600
TZNAME:CST
DTSTART:20241103T070000
END:STANDARD
BEGIN:DAYLIGHT
TZOFFSETFROM:-0600
TZOFFSETTO:-0500
TZNAME:CDT
DTSTART:20250309T080000
END:DAYLIGHT
BEGIN:STANDARD
TZOFFSETFROM:-0500
TZOFFSETTO:-0600
TZNAME:CST
DTSTART:20251102T070000
END:STANDARD
END:VTIMEZONE
BEGIN:VEVENT
DTSTART;TZID=America/Chicago:20240510T170000
DTEND;TZID=America/Chicago:20240510T190000
DTSTAMP:20260419T235139
CREATED:20240507T235755Z
LAST-MODIFIED:20240507T235755Z
UID:10000362-1715360400-1715367600@riverartsalliance.org
SUMMARY:Opening Reception - Art Show by Angie Malin at Blue Heron Coffeehouse
DESCRIPTION:Blue Heron Coffeehouse | 162 W 2nd St.\nblueheroncoffeehouse.com \nA new art show at the Blue Heron Coffeehouse will feature original oil paintings by Angie Malin. This show will run from May 10 through Sunday\, June 16\, 2024\, with an opening reception for the artist on Friday\, May 10\, from 5-7 pm. The reception is free and open to the public\, with light refreshments provided. \nThe artist says\, “I have lived in the Midwest my entire life which has given me an appreciation for the changing landscape from season to season. Plein Air painting\, painting outdoors from life\, is my preferred way to paint.” Learn more.
URL:https://riverartsalliance.org/event/opening-reception-art-show-by-angie-malin-at-blue-heron-coffeehouse/
LOCATION:Blue Heron Coffeehouse\, 162 W 2nd St\, Winona\, MN\, 55987\, United States
END:VEVENT
BEGIN:VEVENT
DTSTART;TZID=America/Chicago:20240510T190000
DTEND;TZID=America/Chicago:20240510T190000
DTSTAMP:20260419T235139
CREATED:20240501T182116Z
LAST-MODIFIED:20240501T182116Z
UID:10000353-1715367600-1715367600@riverartsalliance.org
SUMMARY:Theatre du Mississippi Presents Baby I’ll Turn the Sky Green for You
DESCRIPTION:Valencia Arts Center | 1164 W Howard St.\ntheatredumiss.org \nTheatre du Mississippi presents a production of the play Baby I’ll Turn the Sky Green for You by Taylor Sklenar\, directed by Rae Peter. \nPart One: In a ravaged 2051\, a nurse tries desperately to keep her father on life support\, despite her nihilistic sister’s desire to pull the plug. As the sisters quarrel\, questions of their father’s past emerge\, pushing their relationship to its breaking point. \nPart Two: In 2019\, the cast has transformed to play the older generation\, and the decisions and secrets of the past come to life. An intriguing look at the responsibility that we have to other generations and the personal costs of action and inaction. \nTickets are $15 pre-sale or $20 at the door. Learn more.
URL:https://riverartsalliance.org/event/theatre-du-mississippi-presents-baby-ill-turn-the-sky-green-for-you/2024-05-10/
LOCATION:Minnesota Conservatory for the Arts\, 1164 W 10th St.\, Winona\, MN\, United States
END:VEVENT
END:VCALENDAR