BEGIN:VCALENDAR
VERSION:2.0
PRODID:-//River Arts Alliance - ECPv6.15.20//NONSGML v1.0//EN
CALSCALE:GREGORIAN
METHOD:PUBLISH
X-ORIGINAL-URL:https://riverartsalliance.org
X-WR-CALDESC:Events for River Arts Alliance
REFRESH-INTERVAL;VALUE=DURATION:PT1H
X-Robots-Tag:noindex
X-PUBLISHED-TTL:PT1H
BEGIN:VTIMEZONE
TZID:America/Chicago
BEGIN:DAYLIGHT
TZOFFSETFROM:-0600
TZOFFSETTO:-0500
TZNAME:CDT
DTSTART:20230312T080000
END:DAYLIGHT
BEGIN:STANDARD
TZOFFSETFROM:-0500
TZOFFSETTO:-0600
TZNAME:CST
DTSTART:20231105T070000
END:STANDARD
BEGIN:DAYLIGHT
TZOFFSETFROM:-0600
TZOFFSETTO:-0500
TZNAME:CDT
DTSTART:20240310T080000
END:DAYLIGHT
BEGIN:STANDARD
TZOFFSETFROM:-0500
TZOFFSETTO:-0600
TZNAME:CST
DTSTART:20241103T070000
END:STANDARD
BEGIN:DAYLIGHT
TZOFFSETFROM:-0600
TZOFFSETTO:-0500
TZNAME:CDT
DTSTART:20250309T080000
END:DAYLIGHT
BEGIN:STANDARD
TZOFFSETFROM:-0500
TZOFFSETTO:-0600
TZNAME:CST
DTSTART:20251102T070000
END:STANDARD
END:VTIMEZONE
BEGIN:VEVENT
DTSTART;TZID=America/Chicago:20240511T100000
DTEND;TZID=America/Chicago:20240511T170000
DTSTAMP:20260419T235259
CREATED:20240501T181614Z
LAST-MODIFIED:20240501T181614Z
UID:10000351-1715421600-1715446800@riverartsalliance.org
SUMMARY:Art is for Everyone at MMAM’s Spring Seasonal Saturday
DESCRIPTION:Minnesota Marine Art Museum | 800 Riverview Dr.\nmmam.org \nOn Saturday\, May 11\, the Minnesota Marine Art Museum (MMAM) will hold its Spring Seasonal Saturday event focused on the theme Scenic Splendor\, inspired by the exhibition Re/Framing The View: Nineteenth-century American Landscapes\, on view now at MMAM through August 4\, 2024. On loan from the New Bedford Whaling Museum (New Bedford\, Massachusetts)\, Re/Framing The View takes a layered approach to looking at landscape painting and artists from the 1800s. Seasonal Saturdays strive to reduce intimidation and increase comfortable access to the arts for everyone by offering fun-filled\, inviting days\, with $1 admission\, free transportation\, and 30-minute guided tours. The event will include a live oil painting demonstration\, live music\, and more. Learn more.
URL:https://riverartsalliance.org/event/art-is-for-everyone-at-mmams-spring-seasonal-saturday/
LOCATION:Minnesota Marine Art Museum\, 800 Riverview Dr.\, Winona\, MN\, 55987\, United States
END:VEVENT
BEGIN:VEVENT
DTSTART;TZID=America/Chicago:20240511T190000
DTEND;TZID=America/Chicago:20240511T190000
DTSTAMP:20260419T235259
CREATED:20240501T182116Z
LAST-MODIFIED:20240501T182116Z
UID:10000354-1715454000-1715454000@riverartsalliance.org
SUMMARY:Theatre du Mississippi Presents Baby I’ll Turn the Sky Green for You
DESCRIPTION:Valencia Arts Center | 1164 W Howard St.\ntheatredumiss.org \nTheatre du Mississippi presents a production of the play Baby I’ll Turn the Sky Green for You by Taylor Sklenar\, directed by Rae Peter. \nPart One: In a ravaged 2051\, a nurse tries desperately to keep her father on life support\, despite her nihilistic sister’s desire to pull the plug. As the sisters quarrel\, questions of their father’s past emerge\, pushing their relationship to its breaking point. \nPart Two: In 2019\, the cast has transformed to play the older generation\, and the decisions and secrets of the past come to life. An intriguing look at the responsibility that we have to other generations and the personal costs of action and inaction. \nTickets are $15 pre-sale or $20 at the door. Learn more.
URL:https://riverartsalliance.org/event/theatre-du-mississippi-presents-baby-ill-turn-the-sky-green-for-you/2024-05-11/
LOCATION:Minnesota Conservatory for the Arts\, 1164 W 10th St.\, Winona\, MN\, United States
END:VEVENT
END:VCALENDAR