BEGIN:VCALENDAR
VERSION:2.0
PRODID:-//River Arts Alliance - ECPv6.15.20//NONSGML v1.0//EN
CALSCALE:GREGORIAN
METHOD:PUBLISH
X-ORIGINAL-URL:https://riverartsalliance.org
X-WR-CALDESC:Events for River Arts Alliance
REFRESH-INTERVAL;VALUE=DURATION:PT1H
X-Robots-Tag:noindex
X-PUBLISHED-TTL:PT1H
BEGIN:VTIMEZONE
TZID:America/Chicago
BEGIN:DAYLIGHT
TZOFFSETFROM:-0600
TZOFFSETTO:-0500
TZNAME:CDT
DTSTART:20230312T080000
END:DAYLIGHT
BEGIN:STANDARD
TZOFFSETFROM:-0500
TZOFFSETTO:-0600
TZNAME:CST
DTSTART:20231105T070000
END:STANDARD
BEGIN:DAYLIGHT
TZOFFSETFROM:-0600
TZOFFSETTO:-0500
TZNAME:CDT
DTSTART:20240310T080000
END:DAYLIGHT
BEGIN:STANDARD
TZOFFSETFROM:-0500
TZOFFSETTO:-0600
TZNAME:CST
DTSTART:20241103T070000
END:STANDARD
BEGIN:DAYLIGHT
TZOFFSETFROM:-0600
TZOFFSETTO:-0500
TZNAME:CDT
DTSTART:20250309T080000
END:DAYLIGHT
BEGIN:STANDARD
TZOFFSETFROM:-0500
TZOFFSETTO:-0600
TZNAME:CST
DTSTART:20251102T070000
END:STANDARD
END:VTIMEZONE
BEGIN:VEVENT
DTSTART;TZID=America/Chicago:20240519T140000
DTEND;TZID=America/Chicago:20240519T140000
DTSTAMP:20260419T235301
CREATED:20240501T182116Z
LAST-MODIFIED:20240501T182116Z
UID:10000358-1716127200-1716127200@riverartsalliance.org
SUMMARY:Theatre du Mississippi Presents Baby I’ll Turn the Sky Green for You
DESCRIPTION:Valencia Arts Center | 1164 W Howard St.\ntheatredumiss.org \nTheatre du Mississippi presents a production of the play Baby I’ll Turn the Sky Green for You by Taylor Sklenar\, directed by Rae Peter. \nPart One: In a ravaged 2051\, a nurse tries desperately to keep her father on life support\, despite her nihilistic sister’s desire to pull the plug. As the sisters quarrel\, questions of their father’s past emerge\, pushing their relationship to its breaking point. \nPart Two: In 2019\, the cast has transformed to play the older generation\, and the decisions and secrets of the past come to life. An intriguing look at the responsibility that we have to other generations and the personal costs of action and inaction. \nTickets are $15 pre-sale or $20 at the door. Learn more.
URL:https://riverartsalliance.org/event/theatre-du-mississippi-presents-baby-ill-turn-the-sky-green-for-you/2024-05-19/
LOCATION:Minnesota Conservatory for the Arts\, 1164 W 10th St.\, Winona\, MN\, United States
END:VEVENT
BEGIN:VEVENT
DTSTART;TZID=America/Chicago:20240519T143000
DTEND;TZID=America/Chicago:20240519T173000
DTSTAMP:20260419T235301
CREATED:20240516T211542Z
LAST-MODIFIED:20240516T211542Z
UID:10001200-1716129000-1716139800@riverartsalliance.org
SUMMARY:May Jazz Jam Welcomes Winona Community Chorale
DESCRIPTION:Two Fathoms Brewing | 65 E Front St.\nH3OJazz.com \nOn the heels of their spring performances\, the Winona Community Chorale will join H3O Jazz Trio as this month’s Jazz Jam fundraiser recipient. The monthly Jazz Jam takes place outside on the spacious patio at Two Fathoms Brewing Company or in the taproom if weather is bad on Sunday\, May 19 from 2:30 – 5:30 pm. \nH3O Jazz Trio and Two Fathoms Brewing (formerly Island City) have helped support local nonprofits with over $48\,000 in total donations thanks to the generosity of Jazz Jam patrons! The April Jazz Jam contributed $1\,400 in support of the Spanish Language Immersion Program Association. All Jazz Jam donations are matched by H3O and Two Fathoms. Learn more.
URL:https://riverartsalliance.org/event/may-jazz-jam-welcomes-winona-community-chorale/
LOCATION:Two Fathoms Brewing\, 65 E Front St.\, Winona\, MN\, 55987\, United States
END:VEVENT
END:VCALENDAR