BEGIN:VCALENDAR
VERSION:2.0
PRODID:-//River Arts Alliance - ECPv6.15.20//NONSGML v1.0//EN
CALSCALE:GREGORIAN
METHOD:PUBLISH
X-ORIGINAL-URL:https://riverartsalliance.org
X-WR-CALDESC:Events for River Arts Alliance
REFRESH-INTERVAL;VALUE=DURATION:PT1H
X-Robots-Tag:noindex
X-PUBLISHED-TTL:PT1H
BEGIN:VTIMEZONE
TZID:America/Chicago
BEGIN:DAYLIGHT
TZOFFSETFROM:-0600
TZOFFSETTO:-0500
TZNAME:CDT
DTSTART:20230312T080000
END:DAYLIGHT
BEGIN:STANDARD
TZOFFSETFROM:-0500
TZOFFSETTO:-0600
TZNAME:CST
DTSTART:20231105T070000
END:STANDARD
BEGIN:DAYLIGHT
TZOFFSETFROM:-0600
TZOFFSETTO:-0500
TZNAME:CDT
DTSTART:20240310T080000
END:DAYLIGHT
BEGIN:STANDARD
TZOFFSETFROM:-0500
TZOFFSETTO:-0600
TZNAME:CST
DTSTART:20241103T070000
END:STANDARD
BEGIN:DAYLIGHT
TZOFFSETFROM:-0600
TZOFFSETTO:-0500
TZNAME:CDT
DTSTART:20250309T080000
END:DAYLIGHT
BEGIN:STANDARD
TZOFFSETFROM:-0500
TZOFFSETTO:-0600
TZNAME:CST
DTSTART:20251102T070000
END:STANDARD
END:VTIMEZONE
BEGIN:VEVENT
DTSTART;TZID=America/Chicago:20240523T160000
DTEND;TZID=America/Chicago:20240523T190000
DTSTAMP:20260419T235302
CREATED:20240526T191344Z
LAST-MODIFIED:20240526T191344Z
UID:10001201-1716480000-1716490800@riverartsalliance.org
SUMMARY:Minnesota Bach Festival Mobile Mini-Concerts
DESCRIPTION:Various Locations in Winona\nbachsocietymn.org \nThe annual Minnesota Bach Festival\, a month of musical events throughout the state\, is bringing a series of Mobile Mini-Concerts to Winona on Thursday\, May 23 from 4-7 pm. The concerts are in a pop-up format\, featuring Bach Society of Minnesota musician Charles Asch performing a brief solo concert before moving on to the next location. Charles\, a noted cellist\, will perform at five locations in Winona. The Mobile Mini-Concerts are free and open to the public. \nPerformance Locations and Schedule: \n4:00 pm Sugar Loaf Senior Living\, 765 Menard Road \n4:40 pm Benedictine Callista Court\, 1455 W Broadway Street \n5:10 pm St. Anne’s Extended Healthcare\, 1347 W Broadway Street \n6:00 pm St. Martin’s Lutheran Church\, 253 Liberty Street \n6:40 pm Central Lutheran Church\, 259 W Wabasha Street \nLearn more.
URL:https://riverartsalliance.org/event/minnesota-bach-festival-mobile-mini-concerts/
LOCATION:MN
END:VEVENT
END:VCALENDAR