BEGIN:VCALENDAR
VERSION:2.0
PRODID:-//River Arts Alliance - ECPv6.15.20//NONSGML v1.0//EN
CALSCALE:GREGORIAN
METHOD:PUBLISH
X-ORIGINAL-URL:https://riverartsalliance.org
X-WR-CALDESC:Events for River Arts Alliance
REFRESH-INTERVAL;VALUE=DURATION:PT1H
X-Robots-Tag:noindex
X-PUBLISHED-TTL:PT1H
BEGIN:VTIMEZONE
TZID:America/Chicago
BEGIN:DAYLIGHT
TZOFFSETFROM:-0600
TZOFFSETTO:-0500
TZNAME:CDT
DTSTART:20230312T080000
END:DAYLIGHT
BEGIN:STANDARD
TZOFFSETFROM:-0500
TZOFFSETTO:-0600
TZNAME:CST
DTSTART:20231105T070000
END:STANDARD
BEGIN:DAYLIGHT
TZOFFSETFROM:-0600
TZOFFSETTO:-0500
TZNAME:CDT
DTSTART:20240310T080000
END:DAYLIGHT
BEGIN:STANDARD
TZOFFSETFROM:-0500
TZOFFSETTO:-0600
TZNAME:CST
DTSTART:20241103T070000
END:STANDARD
BEGIN:DAYLIGHT
TZOFFSETFROM:-0600
TZOFFSETTO:-0500
TZNAME:CDT
DTSTART:20250309T080000
END:DAYLIGHT
BEGIN:STANDARD
TZOFFSETFROM:-0500
TZOFFSETTO:-0600
TZNAME:CST
DTSTART:20251102T070000
END:STANDARD
END:VTIMEZONE
BEGIN:VEVENT
DTSTART;TZID=America/Chicago:20240530T183000
DTEND;TZID=America/Chicago:20240530T200000
DTSTAMP:20260419T221818
CREATED:20240516T213811Z
LAST-MODIFIED:20240516T213811Z
UID:10001199-1717093800-1717099200@riverartsalliance.org
SUMMARY:artsXchange with Emilio & Monica DeGrazia: Authenticity in the Age of AI
DESCRIPTION:Minnesota Marine Art Museum | 800 Riverview Dr.\nRegister Here \nThe dawn of Artificial Intelligence poses a historically profound\, alarming\, and unprecedented problem for writers\, musicians\, and artists. AI’s generative powers\, often controlled anonymously\, are matching human creative ventures and promise to surpass them. What then is “authenticity” as an outcome of human creative processes? How can we establish criteria that will help us decide whether the art forms we are exposed to are “authentic” and worthy of our respect? The main focus of this presentation will be on literary works\, with a few visual artworks on display at the Minnesota Marine Art Museum providing opportunities to consider analogies between literary and visual arts. In preparing a definitive book about many different versions of the “Princess Winona” legends\, Monica DeGrazia has confronted questions about the legend’s credibility in direct and varying ways. The city of Winona’s identity and heritage are based in large part on suppositions that have no basis in authentic history. Emilio DeGrazia has a long history as author of fiction\, poetry and creative non-fiction\, and he also has worked as a literary editor and judge for several literary contests. He will discuss how he\, as writer\, has struggled to generate literary work worth calling “authentic\,” and what standards he\, as editor and literary judge\, believes it is important to maintain. \nThis event is free to attend for members of RAA or MMAM\, and included with museum admission for others. Registration is required\, and space is limited to 25 attendees per program. Learn more.
URL:https://riverartsalliance.org/event/artsxchange-with-emilio-monica-degrazia-authenticity-in-the-age-of-ai/
LOCATION:Minnesota Marine Art Museum\, 800 Riverview Dr.\, Winona\, MN\, 55987\, United States
END:VEVENT
END:VCALENDAR