BEGIN:VCALENDAR
VERSION:2.0
PRODID:-//River Arts Alliance - ECPv6.15.20//NONSGML v1.0//EN
CALSCALE:GREGORIAN
METHOD:PUBLISH
X-WR-CALNAME:River Arts Alliance
X-ORIGINAL-URL:https://riverartsalliance.org
X-WR-CALDESC:Events for River Arts Alliance
REFRESH-INTERVAL;VALUE=DURATION:PT1H
X-Robots-Tag:noindex
X-PUBLISHED-TTL:PT1H
BEGIN:VTIMEZONE
TZID:America/Chicago
BEGIN:DAYLIGHT
TZOFFSETFROM:-0600
TZOFFSETTO:-0500
TZNAME:CDT
DTSTART:20230312T080000
END:DAYLIGHT
BEGIN:STANDARD
TZOFFSETFROM:-0500
TZOFFSETTO:-0600
TZNAME:CST
DTSTART:20231105T070000
END:STANDARD
BEGIN:DAYLIGHT
TZOFFSETFROM:-0600
TZOFFSETTO:-0500
TZNAME:CDT
DTSTART:20240310T080000
END:DAYLIGHT
BEGIN:STANDARD
TZOFFSETFROM:-0500
TZOFFSETTO:-0600
TZNAME:CST
DTSTART:20241103T070000
END:STANDARD
BEGIN:DAYLIGHT
TZOFFSETFROM:-0600
TZOFFSETTO:-0500
TZNAME:CDT
DTSTART:20250309T080000
END:DAYLIGHT
BEGIN:STANDARD
TZOFFSETFROM:-0500
TZOFFSETTO:-0600
TZNAME:CST
DTSTART:20251102T070000
END:STANDARD
END:VTIMEZONE
BEGIN:VEVENT
DTSTART;TZID=America/Chicago:20240531T170000
DTEND;TZID=America/Chicago:20240531T190000
DTSTAMP:20260419T221639
CREATED:20240526T202408Z
LAST-MODIFIED:20240526T202408Z
UID:10001202-1717174800-1717182000@riverartsalliance.org
SUMMARY:RAA Art Schmooze at Acoustic Café
DESCRIPTION:Acoustic Café | 77 Lafayette St. \nYou’re invited to a River Arts Alliance Art Schmooze on Friday evening\, May 31\, at the Acoustic Café in downtown Winona. Held periodically throughout the year\, our Schmoozes are casual gatherings for artists of all disciplines and arts supporters\, open to current RAA members and non-members alike. Join us for a fun opportunity to meet and socialize with others in our area’s arts community and to learn more about what RAA does and how you can be involved. The event is free and open to the public. \nA brief program beginning at 6 pm will include announcements from RAA leaders and an opportunity for attendees to introduce themselves. Before and after the program will be informal social time. Food and beverages will be available for purchase. Learn more.
URL:https://riverartsalliance.org/event/raa-art-schmooze-at-acoustic-cafe-2/
LOCATION:Acoustic Cafe\, 77 Lafayette St.\, Winona\, MN\, 55987\, United States
END:VEVENT
BEGIN:VEVENT
DTSTART;TZID=America/Chicago:20240531T190000
DTEND;TZID=America/Chicago:20240531T190000
DTSTAMP:20260419T221639
CREATED:20240526T210806Z
LAST-MODIFIED:20240526T210806Z
UID:10001203-1717182000-1717182000@riverartsalliance.org
SUMMARY:Ben Cosgrove Concert at WAC
DESCRIPTION:Winona Arts Center | 228 E 5th St.\nwinonaarts.org \nBen Cosgrove will perform a free concert at 7 pm on Friday\, May 31 at the Winona Arts Center. Doors open at 6:30. The Winona Arts Center is a small venue\, so please pick up your free ticket at Music Mart (formerly Hardt’s Music) or reserve a ticket on Eventbrite. If we are full to capacity and you do not have a ticket\, you will not be able to attend this amazing concert. \nBen is currently Artist-in-Residence helping to commemorate the 100th Anniversary of the Upper Mississippi River National Wildlife and Fish Refuge. Ben’s music and storytelling will transport you throughout landscapes near and far in a way few performers can. Ben has travelled throughout the 261 miles of the Refuge along the Mississippi and will share his inspiration and reflections in this performance. Learn more.
URL:https://riverartsalliance.org/event/ben-cosgrove-concert-at-wac/
LOCATION:Winona Arts Center\, 228 E 5th St.\, Winona\, MN\, 55987\, United States
END:VEVENT
END:VCALENDAR