BEGIN:VCALENDAR
VERSION:2.0
PRODID:-//River Arts Alliance - ECPv6.15.20//NONSGML v1.0//EN
CALSCALE:GREGORIAN
METHOD:PUBLISH
X-ORIGINAL-URL:https://riverartsalliance.org
X-WR-CALDESC:Events for River Arts Alliance
REFRESH-INTERVAL;VALUE=DURATION:PT1H
X-Robots-Tag:noindex
X-PUBLISHED-TTL:PT1H
BEGIN:VTIMEZONE
TZID:America/Chicago
BEGIN:DAYLIGHT
TZOFFSETFROM:-0600
TZOFFSETTO:-0500
TZNAME:CDT
DTSTART:20230312T080000
END:DAYLIGHT
BEGIN:STANDARD
TZOFFSETFROM:-0500
TZOFFSETTO:-0600
TZNAME:CST
DTSTART:20231105T070000
END:STANDARD
BEGIN:DAYLIGHT
TZOFFSETFROM:-0600
TZOFFSETTO:-0500
TZNAME:CDT
DTSTART:20240310T080000
END:DAYLIGHT
BEGIN:STANDARD
TZOFFSETFROM:-0500
TZOFFSETTO:-0600
TZNAME:CST
DTSTART:20241103T070000
END:STANDARD
BEGIN:DAYLIGHT
TZOFFSETFROM:-0600
TZOFFSETTO:-0500
TZNAME:CDT
DTSTART:20250309T080000
END:DAYLIGHT
BEGIN:STANDARD
TZOFFSETFROM:-0500
TZOFFSETTO:-0600
TZNAME:CST
DTSTART:20251102T070000
END:STANDARD
END:VTIMEZONE
BEGIN:VEVENT
DTSTART;TZID=America/Chicago:20240601T070000
DTEND;TZID=America/Chicago:20240601T130000
DTSTAMP:20260419T221819
CREATED:20240531T202715Z
LAST-MODIFIED:20240531T202748Z
UID:10001204-1717225200-1717246800@riverartsalliance.org
SUMMARY:Artists Along the Trail
DESCRIPTION:Trempealeau National Wildlife Refuge | W28488 Refuge Road | Trempealeau\, WI \nAll are invited to meet and watch area artists create at a multi-day plein air painting event in the Trempealeau National Wildlife Refuge and at Elmaro Vineyard and Winery this coming June. On Saturday\, June 1 from 7:30-11 am\, artists will be painting along the trails in the Refuge. A luncheon and opportunity to meet the artists will take place from 11:30 am-1 pm at the Outdoor Wonders Learning Center. Related events will take place at Elmaro throughout the month of June. \nAmong the 16 participating artists\, seven are members of River Arts Alliance: Linda Klabo\, Linda Arnesen\, Colleen Shore\, Betsy Midthun\, Faye Schoen\, Jean Mueller and Jamie Schwaba. This event is sponsored by the Friends of Trempealeau Refuge and made possible through donations from the Michael Owecke Memorial Fund. Learn more.
URL:https://riverartsalliance.org/event/artists-along-the-trail/
LOCATION:Trempealeau National Wildlife Refuge\, W28488 Refuge Road\, Trempealeau\, WI\, 54661
END:VEVENT
END:VCALENDAR