BEGIN:VCALENDAR
VERSION:2.0
PRODID:-//River Arts Alliance - ECPv6.15.20//NONSGML v1.0//EN
CALSCALE:GREGORIAN
METHOD:PUBLISH
X-WR-CALNAME:River Arts Alliance
X-ORIGINAL-URL:https://riverartsalliance.org
X-WR-CALDESC:Events for River Arts Alliance
REFRESH-INTERVAL;VALUE=DURATION:PT1H
X-Robots-Tag:noindex
X-PUBLISHED-TTL:PT1H
BEGIN:VTIMEZONE
TZID:America/Chicago
BEGIN:DAYLIGHT
TZOFFSETFROM:-0600
TZOFFSETTO:-0500
TZNAME:CDT
DTSTART:20230312T080000
END:DAYLIGHT
BEGIN:STANDARD
TZOFFSETFROM:-0500
TZOFFSETTO:-0600
TZNAME:CST
DTSTART:20231105T070000
END:STANDARD
BEGIN:DAYLIGHT
TZOFFSETFROM:-0600
TZOFFSETTO:-0500
TZNAME:CDT
DTSTART:20240310T080000
END:DAYLIGHT
BEGIN:STANDARD
TZOFFSETFROM:-0500
TZOFFSETTO:-0600
TZNAME:CST
DTSTART:20241103T070000
END:STANDARD
BEGIN:DAYLIGHT
TZOFFSETFROM:-0600
TZOFFSETTO:-0500
TZNAME:CDT
DTSTART:20250309T080000
END:DAYLIGHT
BEGIN:STANDARD
TZOFFSETFROM:-0500
TZOFFSETTO:-0600
TZNAME:CST
DTSTART:20251102T070000
END:STANDARD
END:VTIMEZONE
BEGIN:VEVENT
DTSTART;TZID=America/Chicago:20240609T130000
DTEND;TZID=America/Chicago:20240609T160000
DTSTAMP:20260419T221639
CREATED:20240604T182440Z
LAST-MODIFIED:20240604T182440Z
UID:10001208-1717938000-1717948800@riverartsalliance.org
SUMMARY:Patina at Elmaro
DESCRIPTION:Elmaro Vineyard | N14756 Delaney Rd. | Trempealeau\, WI\npatinatheband.com \nPatina is a Celtic inspired fiddle\, whistle\, flute\, bodhrán\, banjo\, accordion and guitar band that plays mixed Celtic\, folk and original music. Patina will be at Elmaro Vineyard on Sunday\, June 9th from 1:00 to 4:00. We LOVE to bring our lively music to anyone who enjoys the fun sounds of traditional Celtic\, folk and Patina originals. Our loyal fans tell us that Patina is a fun band to listen to and watch perform. Learn more.
URL:https://riverartsalliance.org/event/patina-at-elmaro/
LOCATION:Elmaro Vineyard\, N14756 Delaney Rd.\, Trempealeau\, WI\, 54661\, United States
END:VEVENT
END:VCALENDAR