BEGIN:VCALENDAR
VERSION:2.0
PRODID:-//River Arts Alliance - ECPv6.15.20//NONSGML v1.0//EN
CALSCALE:GREGORIAN
METHOD:PUBLISH
X-WR-CALNAME:River Arts Alliance
X-ORIGINAL-URL:https://riverartsalliance.org
X-WR-CALDESC:Events for River Arts Alliance
REFRESH-INTERVAL;VALUE=DURATION:PT1H
X-Robots-Tag:noindex
X-PUBLISHED-TTL:PT1H
BEGIN:VTIMEZONE
TZID:America/Chicago
BEGIN:DAYLIGHT
TZOFFSETFROM:-0600
TZOFFSETTO:-0500
TZNAME:CDT
DTSTART:20230312T080000
END:DAYLIGHT
BEGIN:STANDARD
TZOFFSETFROM:-0500
TZOFFSETTO:-0600
TZNAME:CST
DTSTART:20231105T070000
END:STANDARD
BEGIN:DAYLIGHT
TZOFFSETFROM:-0600
TZOFFSETTO:-0500
TZNAME:CDT
DTSTART:20240310T080000
END:DAYLIGHT
BEGIN:STANDARD
TZOFFSETFROM:-0500
TZOFFSETTO:-0600
TZNAME:CST
DTSTART:20241103T070000
END:STANDARD
BEGIN:DAYLIGHT
TZOFFSETFROM:-0600
TZOFFSETTO:-0500
TZNAME:CDT
DTSTART:20250309T080000
END:DAYLIGHT
BEGIN:STANDARD
TZOFFSETFROM:-0500
TZOFFSETTO:-0600
TZNAME:CST
DTSTART:20251102T070000
END:STANDARD
END:VTIMEZONE
BEGIN:VEVENT
DTSTART;TZID=America/Chicago:20240618T190000
DTEND;TZID=America/Chicago:20240618T190000
DTSTAMP:20260419T221641
CREATED:20240617T142618Z
LAST-MODIFIED:20240617T142618Z
UID:10001212-1718737200-1718737200@riverartsalliance.org
SUMMARY:Wayfinding: A Creative Conversation and Dance Film Sharing
DESCRIPTION:Winona Arts Center | 228 E 5th St.\nRegister Here \nMcKnight International Choreographer Meryl Zaytoun Murman will be part of Wayfinding: A Creative Conversation and Dance Film Sharing on Tuesday\, June 18th @ 7 pm\, joined by Winona artist Sharon Mansur\, and Minneapolis dance artist Leila Awadallah. The films will explore their shared Arab/SWANA (Southeast Asian and North African) heritage\, gender and sexuality\, and diasporic bodies\, and a guided discussion with Winona State University professor Mary Jo Klinker will center these themes. \nThis free event is co-sponsored by Art of the Rural and will take place at the Winona Arts Center\, at 228 E 5th St.\, Winona\, MN 55987. Registrations are strongly encouraged via a form on this page: www.mcknightdancechoreo.org/international-artist. Learn more.
URL:https://riverartsalliance.org/event/wayfinding-a-creative-conversation-and-dance-film-sharing/
LOCATION:Winona Arts Center\, 228 E 5th St.\, Winona\, MN\, 55987\, United States
END:VEVENT
END:VCALENDAR