BEGIN:VCALENDAR
VERSION:2.0
PRODID:-//River Arts Alliance - ECPv6.15.20//NONSGML v1.0//EN
CALSCALE:GREGORIAN
METHOD:PUBLISH
X-ORIGINAL-URL:https://riverartsalliance.org
X-WR-CALDESC:Events for River Arts Alliance
REFRESH-INTERVAL;VALUE=DURATION:PT1H
X-Robots-Tag:noindex
X-PUBLISHED-TTL:PT1H
BEGIN:VTIMEZONE
TZID:America/Chicago
BEGIN:DAYLIGHT
TZOFFSETFROM:-0600
TZOFFSETTO:-0500
TZNAME:CDT
DTSTART:20230312T080000
END:DAYLIGHT
BEGIN:STANDARD
TZOFFSETFROM:-0500
TZOFFSETTO:-0600
TZNAME:CST
DTSTART:20231105T070000
END:STANDARD
BEGIN:DAYLIGHT
TZOFFSETFROM:-0600
TZOFFSETTO:-0500
TZNAME:CDT
DTSTART:20240310T080000
END:DAYLIGHT
BEGIN:STANDARD
TZOFFSETFROM:-0500
TZOFFSETTO:-0600
TZNAME:CST
DTSTART:20241103T070000
END:STANDARD
BEGIN:DAYLIGHT
TZOFFSETFROM:-0600
TZOFFSETTO:-0500
TZNAME:CDT
DTSTART:20250309T080000
END:DAYLIGHT
BEGIN:STANDARD
TZOFFSETFROM:-0500
TZOFFSETTO:-0600
TZNAME:CST
DTSTART:20251102T070000
END:STANDARD
END:VTIMEZONE
BEGIN:VEVENT
DTSTART;TZID=America/Chicago:20240619T120000
DTEND;TZID=America/Chicago:20240619T130000
DTSTAMP:20260419T221819
CREATED:20240617T143423Z
LAST-MODIFIED:20240617T143423Z
UID:10001213-1718798400-1718802000@riverartsalliance.org
SUMMARY:Hendrickson Organ Recital June 19 at Central
DESCRIPTION:Central Lutheran Church | 259 W Wabasha St.\nsites.google.com/centrallutheranchurch.org/hendrickson-30th \nCentral Lutheran’s year-long celebration of their magnificent Hendrickson Pipe Organ will continue June 19 from noon to 1 pm with a performance by Houston\, Minnesota native Noah Carlson. Works by J.S. Bach\, Dietrich Buxtehude\, Flor Peeters\, Henri Mulet\, and others will be featured. The recital is free and open to all. Donations collected from a freewill offering will support the instrument’s upcoming renovation. Learn more.
URL:https://riverartsalliance.org/event/hendrickson-organ-recital-june-19-at-central/
LOCATION:Central Lutheran Church\, 259 W Wabasha St.\, Winona\, MN\, 55987\, United States
END:VEVENT
BEGIN:VEVENT
DTSTART;TZID=America/Chicago:20240619T160000
DTEND;TZID=America/Chicago:20240619T190000
DTSTAMP:20260419T221819
CREATED:20240618T225842Z
LAST-MODIFIED:20240618T225842Z
UID:10001215-1718812800-1718823600@riverartsalliance.org
SUMMARY:Juneteenth Community Celebration
DESCRIPTION:Windom Park | 260 Harriet St. \nA special celebration of Juneteenth will take place this Wednesday\, June 19th\, from 4 pm to 7 pm at Windom Park. This marks the 4th annual Juneteenth event organized and hosted by Our Voices in partnership with Theatre du Mississippi with support from ROAR. This event brings the community together to learn about Black and Brown heritage\, history\, and community; it is a community gathering and educational event with vendors\, live music\, games\, and food. Juneteenth\, also known as Freedom Day or Emancipation Day\, commemorates the emancipation of enslaved African Americans in the United States. Learn more.
URL:https://riverartsalliance.org/event/juneteenth-community-celebration/
LOCATION:Windom Park\, 260 Harriet St.\, Winona\, MN\, 55987
END:VEVENT
END:VCALENDAR