BEGIN:VCALENDAR
VERSION:2.0
PRODID:-//River Arts Alliance - ECPv6.15.20//NONSGML v1.0//EN
CALSCALE:GREGORIAN
METHOD:PUBLISH
X-ORIGINAL-URL:https://riverartsalliance.org
X-WR-CALDESC:Events for River Arts Alliance
REFRESH-INTERVAL;VALUE=DURATION:PT1H
X-Robots-Tag:noindex
X-PUBLISHED-TTL:PT1H
BEGIN:VTIMEZONE
TZID:America/Chicago
BEGIN:DAYLIGHT
TZOFFSETFROM:-0600
TZOFFSETTO:-0500
TZNAME:CDT
DTSTART:20230312T080000
END:DAYLIGHT
BEGIN:STANDARD
TZOFFSETFROM:-0500
TZOFFSETTO:-0600
TZNAME:CST
DTSTART:20231105T070000
END:STANDARD
BEGIN:DAYLIGHT
TZOFFSETFROM:-0600
TZOFFSETTO:-0500
TZNAME:CDT
DTSTART:20240310T080000
END:DAYLIGHT
BEGIN:STANDARD
TZOFFSETFROM:-0500
TZOFFSETTO:-0600
TZNAME:CST
DTSTART:20241103T070000
END:STANDARD
BEGIN:DAYLIGHT
TZOFFSETFROM:-0600
TZOFFSETTO:-0500
TZNAME:CDT
DTSTART:20250309T080000
END:DAYLIGHT
BEGIN:STANDARD
TZOFFSETFROM:-0500
TZOFFSETTO:-0600
TZNAME:CST
DTSTART:20251102T070000
END:STANDARD
END:VTIMEZONE
BEGIN:VEVENT
DTSTART;TZID=America/Chicago:20240628T190000
DTEND;TZID=America/Chicago:20240628T210000
DTSTAMP:20260419T221659
CREATED:20240625T172240Z
LAST-MODIFIED:20240625T172240Z
UID:10001218-1719601200-1719608400@riverartsalliance.org
SUMMARY:Unwind Friday with H3O Jazz Trio at Peter’s Biergarten
DESCRIPTION:Peter’s Biergarten | 54 E 3rd St.\nH3OJazz.com \nUnwind Friday with H3O Jazz Trio is heading outside for the summer! Join the trio on Friday\, June 28 from 7 – 9 pm in Peter’s Biergarten (54 East 3rd St.\, Winona). Unwind Friday offers mellow jazz to end the week\, meet with friends\, and enjoy a relaxing summer evening under the stars. Delicious food and desserts are available from Blooming Grounds and the biergarten has a wide variety of beers … all with no cover charge! Learn more.
URL:https://riverartsalliance.org/event/unwind-friday-with-h3o-jazz-trio-at-peters-biergarten/
LOCATION:Peter’s Biergarten\, 54 E 3rd St.\, Winona\, MN\, 55987\, United States
END:VEVENT
END:VCALENDAR