BEGIN:VCALENDAR
VERSION:2.0
PRODID:-//River Arts Alliance - ECPv6.15.20//NONSGML v1.0//EN
CALSCALE:GREGORIAN
METHOD:PUBLISH
X-WR-CALNAME:River Arts Alliance
X-ORIGINAL-URL:https://riverartsalliance.org
X-WR-CALDESC:Events for River Arts Alliance
REFRESH-INTERVAL;VALUE=DURATION:PT1H
X-Robots-Tag:noindex
X-PUBLISHED-TTL:PT1H
BEGIN:VTIMEZONE
TZID:America/Chicago
BEGIN:DAYLIGHT
TZOFFSETFROM:-0600
TZOFFSETTO:-0500
TZNAME:CDT
DTSTART:20230312T080000
END:DAYLIGHT
BEGIN:STANDARD
TZOFFSETFROM:-0500
TZOFFSETTO:-0600
TZNAME:CST
DTSTART:20231105T070000
END:STANDARD
BEGIN:DAYLIGHT
TZOFFSETFROM:-0600
TZOFFSETTO:-0500
TZNAME:CDT
DTSTART:20240310T080000
END:DAYLIGHT
BEGIN:STANDARD
TZOFFSETFROM:-0500
TZOFFSETTO:-0600
TZNAME:CST
DTSTART:20241103T070000
END:STANDARD
BEGIN:DAYLIGHT
TZOFFSETFROM:-0600
TZOFFSETTO:-0500
TZNAME:CDT
DTSTART:20250309T080000
END:DAYLIGHT
BEGIN:STANDARD
TZOFFSETFROM:-0500
TZOFFSETTO:-0600
TZNAME:CST
DTSTART:20251102T070000
END:STANDARD
END:VTIMEZONE
BEGIN:VEVENT
DTSTART;TZID=America/Chicago:20240629T180000
DTEND;TZID=America/Chicago:20240629T200000
DTSTAMP:20260419T221641
CREATED:20240625T174329Z
LAST-MODIFIED:20240625T174329Z
UID:10001219-1719684000-1719691200@riverartsalliance.org
SUMMARY:Patina at Peter’s Biergarten
DESCRIPTION:Peter’s Biergarten | 54 E 3rd St.\npatinatheband.com \nCome out to Peter’s Biergarten\, next to Blooming Grounds on East 3rd Street in Winona\, on Saturday\, June 29th at 6:00 pm to hear the band Patina. We play a mix of traditional and contemporary Celtic\, folk\, and original instrumentals and vocals. Patina is a three member Celtic band. Kara Mae plays fiddle and sings vocals\, Sue Lee plays guitar\, banjo\, and sings vocals. Greg plays bodhran\, whistles\, accordion and guitar to round out the band. Learn more.
URL:https://riverartsalliance.org/event/patina-at-peters-biergarten/
LOCATION:Peter’s Biergarten\, 54 E 3rd St.\, Winona\, MN\, 55987\, United States
END:VEVENT
BEGIN:VEVENT
DTSTART;TZID=America/Chicago:20240629T190000
DTEND;TZID=America/Chicago:20240629T210000
DTSTAMP:20260419T221641
CREATED:20240628T235601Z
LAST-MODIFIED:20240628T235601Z
UID:10001221-1719687600-1719694800@riverartsalliance.org
SUMMARY:Meryl Zaytoun Murman McKnight Residency Gathering
DESCRIPTION:Engage Winona | 119 E 3rd St. \nJoin Meryl Zaytoun Murman\, residency partner Sharon Mansur / The Cedar Tree Project\, and the performers to reflect on our creative process and share what we learned with the community! This is an informal residency gathering with free admission\, taking place on Saturday\, June 29 from 7-9 pm at Engage Winona. RSVP’s are encouraged by email to cedartreeproject1@gmail.com. Learn more.
URL:https://riverartsalliance.org/event/meryl-zaytoun-murman-mcknight-residency-gathering/
LOCATION:Engage Winona\, 119 E 3rd St.\, Winona\, MN\, 55987
END:VEVENT
END:VCALENDAR