BEGIN:VCALENDAR
VERSION:2.0
PRODID:-//River Arts Alliance - ECPv6.15.20//NONSGML v1.0//EN
CALSCALE:GREGORIAN
METHOD:PUBLISH
X-WR-CALNAME:River Arts Alliance
X-ORIGINAL-URL:https://riverartsalliance.org
X-WR-CALDESC:Events for River Arts Alliance
REFRESH-INTERVAL;VALUE=DURATION:PT1H
X-Robots-Tag:noindex
X-PUBLISHED-TTL:PT1H
BEGIN:VTIMEZONE
TZID:America/Chicago
BEGIN:DAYLIGHT
TZOFFSETFROM:-0600
TZOFFSETTO:-0500
TZNAME:CDT
DTSTART:20230312T080000
END:DAYLIGHT
BEGIN:STANDARD
TZOFFSETFROM:-0500
TZOFFSETTO:-0600
TZNAME:CST
DTSTART:20231105T070000
END:STANDARD
BEGIN:DAYLIGHT
TZOFFSETFROM:-0600
TZOFFSETTO:-0500
TZNAME:CDT
DTSTART:20240310T080000
END:DAYLIGHT
BEGIN:STANDARD
TZOFFSETFROM:-0500
TZOFFSETTO:-0600
TZNAME:CST
DTSTART:20241103T070000
END:STANDARD
BEGIN:DAYLIGHT
TZOFFSETFROM:-0600
TZOFFSETTO:-0500
TZNAME:CDT
DTSTART:20250309T080000
END:DAYLIGHT
BEGIN:STANDARD
TZOFFSETFROM:-0500
TZOFFSETTO:-0600
TZNAME:CST
DTSTART:20251102T070000
END:STANDARD
END:VTIMEZONE
BEGIN:VEVENT
DTSTART;TZID=America/Chicago:20240630T130000
DTEND;TZID=America/Chicago:20240630T160000
DTSTAMP:20260419T203029
CREATED:20240625T183747Z
LAST-MODIFIED:20240625T183747Z
UID:10001220-1719752400-1719763200@riverartsalliance.org
SUMMARY:Closing Reception: Artists Along the Trail - Artwork at Elmaro
DESCRIPTION:Elmaro Vineyard | N14756 Delaney Rd. | Trempealeau\, WI \nFrom June 1 through June 30\, many artists from the Artists Along the Trail event at the Trempealeau National Wildlife Refuge on June 1 will be displaying their artwork in the Crush Pad at Elmaro Vineyard and Winery. Every Sunday in June\, participating artists will be setting up their easels to paint during Elmaro’s Sunday Street Market. On Sunday\, June 30\, a closing reception with the artists will be held from 1 to 4 pm at Elmaro. Among the 16 participating artists\, seven are members of River Arts Alliance: Linda Klabo\, Linda Arnesen\, Colleen Shore\, Betsy Midthun\, Faye Schoen\, Jean Mueller and Jamie Schwaba. Learn more.
URL:https://riverartsalliance.org/event/closing-reception-artists-along-the-trail-artwork-at-elmaro/
LOCATION:Elmaro Vineyard\, N14756 Delaney Rd.\, Trempealeau\, WI\, 54661\, United States
END:VEVENT
END:VCALENDAR