BEGIN:VCALENDAR
VERSION:2.0
PRODID:-//River Arts Alliance - ECPv6.15.20//NONSGML v1.0//EN
CALSCALE:GREGORIAN
METHOD:PUBLISH
X-ORIGINAL-URL:https://riverartsalliance.org
X-WR-CALDESC:Events for River Arts Alliance
REFRESH-INTERVAL;VALUE=DURATION:PT1H
X-Robots-Tag:noindex
X-PUBLISHED-TTL:PT1H
BEGIN:VTIMEZONE
TZID:America/Chicago
BEGIN:DAYLIGHT
TZOFFSETFROM:-0600
TZOFFSETTO:-0500
TZNAME:CDT
DTSTART:20230312T080000
END:DAYLIGHT
BEGIN:STANDARD
TZOFFSETFROM:-0500
TZOFFSETTO:-0600
TZNAME:CST
DTSTART:20231105T070000
END:STANDARD
BEGIN:DAYLIGHT
TZOFFSETFROM:-0600
TZOFFSETTO:-0500
TZNAME:CDT
DTSTART:20240310T080000
END:DAYLIGHT
BEGIN:STANDARD
TZOFFSETFROM:-0500
TZOFFSETTO:-0600
TZNAME:CST
DTSTART:20241103T070000
END:STANDARD
BEGIN:DAYLIGHT
TZOFFSETFROM:-0600
TZOFFSETTO:-0500
TZNAME:CDT
DTSTART:20250309T080000
END:DAYLIGHT
BEGIN:STANDARD
TZOFFSETFROM:-0500
TZOFFSETTO:-0600
TZNAME:CST
DTSTART:20251102T070000
END:STANDARD
END:VTIMEZONE
BEGIN:VEVENT
DTSTART;TZID=America/Chicago:20240702T190000
DTEND;TZID=America/Chicago:20240702T190000
DTSTAMP:20260419T203130
CREATED:20240701T194729Z
LAST-MODIFIED:20240701T194729Z
UID:10001222-1719946800-1719946800@riverartsalliance.org
SUMMARY:Laureate Writers Series Presents Patrick Cabello Hansel
DESCRIPTION:Blue Heron Coffeehouse | 162 W 2nd St. \nPatrick Cabello Hansel will be the featured writer for the Laureates Writers Series program for Tuesday\, July 2. As an artist Hansel has worked in photography\, drama\, mosaic\, and creative writing. For many years he also worked as Lutheran pastor and artist at inner city churches in the Bronx and Philadelphia. He currently lives close to the George Floyd murder scene\, and uses his passion for the arts for personal and community transformation. \nWriter Thomas R. Smith says this about Hansel: “Living near the epicenter of the tumultuous events of 2020…he turns out to be the perfect chronicler of that year. His poems in Breathing in Minneapolis miraculously keep their lyricism while maintaining fidelity to fact.” An open mic session will follow Hansel’s program. Learn more.
URL:https://riverartsalliance.org/event/laureate-writers-series-presents-patrick-cabello-hansel/
LOCATION:Blue Heron Coffeehouse\, 162 W 2nd St\, Winona\, MN\, 55987\, United States
END:VEVENT
END:VCALENDAR