BEGIN:VCALENDAR
VERSION:2.0
PRODID:-//River Arts Alliance - ECPv6.15.20//NONSGML v1.0//EN
CALSCALE:GREGORIAN
METHOD:PUBLISH
X-WR-CALNAME:River Arts Alliance
X-ORIGINAL-URL:https://riverartsalliance.org
X-WR-CALDESC:Events for River Arts Alliance
REFRESH-INTERVAL;VALUE=DURATION:PT1H
X-Robots-Tag:noindex
X-PUBLISHED-TTL:PT1H
BEGIN:VTIMEZONE
TZID:America/Chicago
BEGIN:DAYLIGHT
TZOFFSETFROM:-0600
TZOFFSETTO:-0500
TZNAME:CDT
DTSTART:20230312T080000
END:DAYLIGHT
BEGIN:STANDARD
TZOFFSETFROM:-0500
TZOFFSETTO:-0600
TZNAME:CST
DTSTART:20231105T070000
END:STANDARD
BEGIN:DAYLIGHT
TZOFFSETFROM:-0600
TZOFFSETTO:-0500
TZNAME:CDT
DTSTART:20240310T080000
END:DAYLIGHT
BEGIN:STANDARD
TZOFFSETFROM:-0500
TZOFFSETTO:-0600
TZNAME:CST
DTSTART:20241103T070000
END:STANDARD
BEGIN:DAYLIGHT
TZOFFSETFROM:-0600
TZOFFSETTO:-0500
TZNAME:CDT
DTSTART:20250309T080000
END:DAYLIGHT
BEGIN:STANDARD
TZOFFSETFROM:-0500
TZOFFSETTO:-0600
TZNAME:CST
DTSTART:20251102T070000
END:STANDARD
END:VTIMEZONE
BEGIN:VEVENT
DTSTART;TZID=America/Chicago:20240717T120000
DTEND;TZID=America/Chicago:20240717T130000
DTSTAMP:20260419T203030
CREATED:20240710T190549Z
LAST-MODIFIED:20240710T190549Z
UID:10001224-1721217600-1721221200@riverartsalliance.org
SUMMARY:Hendrickson Organ Recitals Continue July 17 at Central Lutheran
DESCRIPTION:Central Lutheran Church | 259 W Wabasha St.\nsites.google.com/centrallutheranchurch.org/hendrickson-30th \nCentral Lutheran’s year-long celebration of their magnificent Hendrickson Pipe Organ continues Wednesday\, July 17 from noon to 1 pm with a performance by La Crosse organist Sue Walby. A variety of works will be featured\, dating from 16th Century Italian to 20th Century American\, including compositions by Andrea Gabrieli and Gerald Near. The recital is free and open to all. Donations collected from a freewill offering will support the instrument’s upcoming renovation. Learn more.
URL:https://riverartsalliance.org/event/hendrickson-organ-recitals-continue-july-17-at-central-lutheran/
LOCATION:Central Lutheran Church\, 259 W Wabasha St.\, Winona\, MN\, 55987\, United States
END:VEVENT
BEGIN:VEVENT
DTSTART;TZID=America/Chicago:20240717T183000
DTEND;TZID=America/Chicago:20240717T183000
DTSTAMP:20260419T203030
CREATED:20240720T182406Z
LAST-MODIFIED:20240720T182406Z
UID:10000381-1721241000-1721241000@riverartsalliance.org
SUMMARY:Paul for Pete: Stage Performance
DESCRIPTION:Winona Arts Center | 228 E 5th St. \nTheatre du Mississippi is thrilled to invite you to a special evening at the Winona Arts Center featuring a remarkable solo stage adaptation by Paul Barnes\, founding Producing Director of Winona’s Great River Shakespeare Festival. Join us for a captivating performance of Paul for Pete: Politics. Theatre. Life. One Man’s Adventures (or\, How I Became a Septuagenarian Fanboy)\, taking place at 6:30 PM on Wednesday\, July 17th. In this heartfelt memoir brought to life on stage\, Paul Barnes shares his extraordinary journey from despair to hope during the tumultuous 2020 elections. Through vivid storytelling\, Barnes recounts his directing escapades across America\, his evolution from political novice to accomplished campaign fundraiser\, and a profound personal experience that forever altered his path. \nUse this link to reserve your seat for this FREE event! Tickets are limited\, so we encourage you to reserve your seat early. Learn more.
URL:https://riverartsalliance.org/event/paul-for-pete-stage-performance/
LOCATION:Winona Arts Center\, 228 E 5th St.\, Winona\, MN\, 55987\, United States
END:VEVENT
END:VCALENDAR