BEGIN:VCALENDAR
VERSION:2.0
PRODID:-//River Arts Alliance - ECPv6.15.20//NONSGML v1.0//EN
CALSCALE:GREGORIAN
METHOD:PUBLISH
X-WR-CALNAME:River Arts Alliance
X-ORIGINAL-URL:https://riverartsalliance.org
X-WR-CALDESC:Events for River Arts Alliance
REFRESH-INTERVAL;VALUE=DURATION:PT1H
X-Robots-Tag:noindex
X-PUBLISHED-TTL:PT1H
BEGIN:VTIMEZONE
TZID:America/Chicago
BEGIN:DAYLIGHT
TZOFFSETFROM:-0600
TZOFFSETTO:-0500
TZNAME:CDT
DTSTART:20230312T080000
END:DAYLIGHT
BEGIN:STANDARD
TZOFFSETFROM:-0500
TZOFFSETTO:-0600
TZNAME:CST
DTSTART:20231105T070000
END:STANDARD
BEGIN:DAYLIGHT
TZOFFSETFROM:-0600
TZOFFSETTO:-0500
TZNAME:CDT
DTSTART:20240310T080000
END:DAYLIGHT
BEGIN:STANDARD
TZOFFSETFROM:-0500
TZOFFSETTO:-0600
TZNAME:CST
DTSTART:20241103T070000
END:STANDARD
BEGIN:DAYLIGHT
TZOFFSETFROM:-0600
TZOFFSETTO:-0500
TZNAME:CDT
DTSTART:20250309T080000
END:DAYLIGHT
BEGIN:STANDARD
TZOFFSETFROM:-0500
TZOFFSETTO:-0600
TZNAME:CST
DTSTART:20251102T070000
END:STANDARD
END:VTIMEZONE
BEGIN:VEVENT
DTSTART;TZID=America/Chicago:20240726T120000
DTEND;TZID=America/Chicago:20240726T120000
DTSTAMP:20260419T203029
CREATED:20240723T153403Z
LAST-MODIFIED:20240723T153403Z
UID:10000385-1721995200-1721995200@riverartsalliance.org
SUMMARY:GRSF’s Chill with Will - Hamlet
DESCRIPTION:Workshop 12 pm | Performance 1 pm\nWSU DuFresne Performing Arts Center | 450 Johnson St.\ngrsf.coursestorm.com \nThe Great River Shakespeare Festival’s Chill with Will is a FREE program for students ages 11-18\, offered every Friday in July. The event includes a theatre workshop at noon and a ticket to see the 1:00 matinee. Remaining date is July 26th (Hamlet). Visit grsf.coursestorm.com to register. Learn more.
URL:https://riverartsalliance.org/event/grsfs-chill-with-will-hamlet/
LOCATION:WSU DuFresne Performing Arts Center\, 450 Johnson St.\, Winona\, MN\, 55987\, United States
END:VEVENT
BEGIN:VEVENT
DTSTART;TZID=America/Chicago:20240726T190000
DTEND;TZID=America/Chicago:20240726T210000
DTSTAMP:20260419T203029
CREATED:20240723T153802Z
LAST-MODIFIED:20240723T153802Z
UID:10000387-1722020400-1722027600@riverartsalliance.org
SUMMARY:Unwind Friday with H3O Jazz Trio at Peter’s Biergarten
DESCRIPTION:Peter’s Biergarten | 54 E 3rd St.\nH3OJazz.com \nThe next Unwind Friday with H3O Jazz Trio will be on Friday\, July 26 from 7 – 9 pm in Peter’s Biergarten (54 East 3rd St.\, Winona). Then on Sunday\, July 28\, H3O will be one of four featured groups at the River Arts Alliance Musicians’ Showcase. The showcase begins at 4 pm with H3O performing at 5 pm. Both events are free and open to the public. Unwind Friday offers mellow jazz to end the week\, meet with friends\, and enjoy a relaxing summer evening under the stars. Delicious food and desserts are available from Blooming Grounds and the biergarten has a wide variety of beers … all with no cover charge! Learn more.
URL:https://riverartsalliance.org/event/unwind-friday-with-h3o-jazz-trio-at-peters-biergarten-2/
LOCATION:Peter’s Biergarten\, 54 E 3rd St.\, Winona\, MN\, 55987\, United States
END:VEVENT
END:VCALENDAR