BEGIN:VCALENDAR
VERSION:2.0
PRODID:-//River Arts Alliance - ECPv6.15.20//NONSGML v1.0//EN
CALSCALE:GREGORIAN
METHOD:PUBLISH
X-ORIGINAL-URL:https://riverartsalliance.org
X-WR-CALDESC:Events for River Arts Alliance
REFRESH-INTERVAL;VALUE=DURATION:PT1H
X-Robots-Tag:noindex
X-PUBLISHED-TTL:PT1H
BEGIN:VTIMEZONE
TZID:America/Chicago
BEGIN:DAYLIGHT
TZOFFSETFROM:-0600
TZOFFSETTO:-0500
TZNAME:CDT
DTSTART:20230312T080000
END:DAYLIGHT
BEGIN:STANDARD
TZOFFSETFROM:-0500
TZOFFSETTO:-0600
TZNAME:CST
DTSTART:20231105T070000
END:STANDARD
BEGIN:DAYLIGHT
TZOFFSETFROM:-0600
TZOFFSETTO:-0500
TZNAME:CDT
DTSTART:20240310T080000
END:DAYLIGHT
BEGIN:STANDARD
TZOFFSETFROM:-0500
TZOFFSETTO:-0600
TZNAME:CST
DTSTART:20241103T070000
END:STANDARD
BEGIN:DAYLIGHT
TZOFFSETFROM:-0600
TZOFFSETTO:-0500
TZNAME:CDT
DTSTART:20250309T080000
END:DAYLIGHT
BEGIN:STANDARD
TZOFFSETFROM:-0500
TZOFFSETTO:-0600
TZNAME:CST
DTSTART:20251102T070000
END:STANDARD
END:VTIMEZONE
BEGIN:VEVENT
DTSTART;TZID=America/Chicago:20240728T160000
DTEND;TZID=America/Chicago:20240728T200000
DTSTAMP:20260419T184858
CREATED:20240710T192551Z
LAST-MODIFIED:20240710T192729Z
UID:10001225-1722182400-1722196800@riverartsalliance.org
SUMMARY:RAA Musicians' Showcase
DESCRIPTION:Peter’s Biergarten | 54 E 3rd St. \nThe 2024 RAA Musicians’ Showcase event postponed due to rain on June 22 has been rescheduled for Sunday\, July 28 at Peter’s Biergarten\, beginning at 4 pm. Musicians performing will be: H3O Jazz Trio – Eric Heukeshoven\, piano\, Hans Heuekeshoven\, drums\, and Max Heukeshoven\, bass; Amanda Blue\, soprano\, and Nancy Bachler\, piano; Heidi Bryant\, flute\, and Meredith Mihm\, piano; and Bob Stuber\, guitar/mandolin/vocals\, and Jim Reineke\, mandolin/vocals. Each act will perform an approximately 45-minute set. The event is free to attend.
URL:https://riverartsalliance.org/event/raa-musicians-showcase/
LOCATION:Peter’s Biergarten\, 54 E 3rd St.\, Winona\, MN\, 55987\, United States
END:VEVENT
END:VCALENDAR