BEGIN:VCALENDAR
VERSION:2.0
PRODID:-//River Arts Alliance - ECPv6.15.20//NONSGML v1.0//EN
CALSCALE:GREGORIAN
METHOD:PUBLISH
X-ORIGINAL-URL:https://riverartsalliance.org
X-WR-CALDESC:Events for River Arts Alliance
REFRESH-INTERVAL;VALUE=DURATION:PT1H
X-Robots-Tag:noindex
X-PUBLISHED-TTL:PT1H
BEGIN:VTIMEZONE
TZID:America/Chicago
BEGIN:DAYLIGHT
TZOFFSETFROM:-0600
TZOFFSETTO:-0500
TZNAME:CDT
DTSTART:20230312T080000
END:DAYLIGHT
BEGIN:STANDARD
TZOFFSETFROM:-0500
TZOFFSETTO:-0600
TZNAME:CST
DTSTART:20231105T070000
END:STANDARD
BEGIN:DAYLIGHT
TZOFFSETFROM:-0600
TZOFFSETTO:-0500
TZNAME:CDT
DTSTART:20240310T080000
END:DAYLIGHT
BEGIN:STANDARD
TZOFFSETFROM:-0500
TZOFFSETTO:-0600
TZNAME:CST
DTSTART:20241103T070000
END:STANDARD
BEGIN:DAYLIGHT
TZOFFSETFROM:-0600
TZOFFSETTO:-0500
TZNAME:CDT
DTSTART:20250309T080000
END:DAYLIGHT
BEGIN:STANDARD
TZOFFSETFROM:-0500
TZOFFSETTO:-0600
TZNAME:CST
DTSTART:20251102T070000
END:STANDARD
END:VTIMEZONE
BEGIN:VEVENT
DTSTART;TZID=America/Chicago:20240801T170000
DTEND;TZID=America/Chicago:20240801T190000
DTSTAMP:20260419T184904
CREATED:20240805T164942Z
LAST-MODIFIED:20240805T164942Z
UID:10000389-1722531600-1722538800@riverartsalliance.org
SUMMARY:Poetry Reading: Broad Wings\, Long Legs: A Rookery of Heron Poems
DESCRIPTION:Minnesota Marine Art Museum | 800 Riverview Dr.\nmmam.org \nCome celebrate the diversity and beauty of Minnesota’s herons at the Minnesota Marine Art Museum. At the August 1st event\, four poets featured in the recently-published anthology\, Broad Wings\, Long Legs: A Rookery of Heron Poems\, will use poetry to evoke the mysterious hold these birds have on us. The poets reading include: Winona’s first poet Laureate\, James Armstrong; St. Paul poet and essayist James Silas Rogers\, who is also the anthology’s editor; poet and Minnesota Public Radio host Emily Bright\, producer of the long-running arts series Art Hounds and Ask a Bookseller; and two-time Poet Laureate of Duluth James Johnson\, author of eleven books of poetry. Stephen Winter\, Wildlife Biologist with the Upper Mississippi River National Wildlife and Fish Refuge\, will provide his expert commentary. Learn more.
URL:https://riverartsalliance.org/event/poetry-reading-broad-wings-long-legs-a-rookery-of-heron-poems/
LOCATION:Minnesota Marine Art Museum\, 800 Riverview Dr.\, Winona\, MN\, 55987\, United States
END:VEVENT
END:VCALENDAR