BEGIN:VCALENDAR
VERSION:2.0
PRODID:-//River Arts Alliance - ECPv6.15.20//NONSGML v1.0//EN
CALSCALE:GREGORIAN
METHOD:PUBLISH
X-WR-CALNAME:River Arts Alliance
X-ORIGINAL-URL:https://riverartsalliance.org
X-WR-CALDESC:Events for River Arts Alliance
REFRESH-INTERVAL;VALUE=DURATION:PT1H
X-Robots-Tag:noindex
X-PUBLISHED-TTL:PT1H
BEGIN:VTIMEZONE
TZID:America/Chicago
BEGIN:DAYLIGHT
TZOFFSETFROM:-0600
TZOFFSETTO:-0500
TZNAME:CDT
DTSTART:20230312T080000
END:DAYLIGHT
BEGIN:STANDARD
TZOFFSETFROM:-0500
TZOFFSETTO:-0600
TZNAME:CST
DTSTART:20231105T070000
END:STANDARD
BEGIN:DAYLIGHT
TZOFFSETFROM:-0600
TZOFFSETTO:-0500
TZNAME:CDT
DTSTART:20240310T080000
END:DAYLIGHT
BEGIN:STANDARD
TZOFFSETFROM:-0500
TZOFFSETTO:-0600
TZNAME:CST
DTSTART:20241103T070000
END:STANDARD
BEGIN:DAYLIGHT
TZOFFSETFROM:-0600
TZOFFSETTO:-0500
TZNAME:CDT
DTSTART:20250309T080000
END:DAYLIGHT
BEGIN:STANDARD
TZOFFSETFROM:-0500
TZOFFSETTO:-0600
TZNAME:CST
DTSTART:20251102T070000
END:STANDARD
END:VTIMEZONE
BEGIN:VEVENT
DTSTART;TZID=America/Chicago:20240806T190000
DTEND;TZID=America/Chicago:20240806T190000
DTSTAMP:20260419T184727
CREATED:20240805T170548Z
LAST-MODIFIED:20240805T170548Z
UID:10000391-1722970800-1722970800@riverartsalliance.org
SUMMARY:Northfield Poets To Read for the Laureate Writers Series
DESCRIPTION:Blue Heron Coffeehouse | 162 W 2nd St. \nThe Laureate Writers Series will host five Northfield poets\, Becky Boling\, Heather Candels\, D.E. Green\, Steve McCown and Julie A. Ryan\, to read from their work on Tuesday\, August 6th at the Blue Heron Coffeehouse. The poets are included in an anthology entitled We Look West\, just published by Shipwreckt Books\, Winona\, as part of the Up On Big Rock Poetry Series. The anthology will be for sale after the reading. An Open Mic will follow shortly thereafter. The event is open to the public\, and we encourage you to read your own work at the Open Mic—we always like to hear new voices! Learn more.
URL:https://riverartsalliance.org/event/northfield-poets-to-read-for-the-laureate-writers-series/
LOCATION:Blue Heron Coffeehouse\, 162 W 2nd St\, Winona\, MN\, 55987\, United States
END:VEVENT
END:VCALENDAR