BEGIN:VCALENDAR
VERSION:2.0
PRODID:-//River Arts Alliance - ECPv6.15.20//NONSGML v1.0//EN
CALSCALE:GREGORIAN
METHOD:PUBLISH
X-WR-CALNAME:River Arts Alliance
X-ORIGINAL-URL:https://riverartsalliance.org
X-WR-CALDESC:Events for River Arts Alliance
REFRESH-INTERVAL;VALUE=DURATION:PT1H
X-Robots-Tag:noindex
X-PUBLISHED-TTL:PT1H
BEGIN:VTIMEZONE
TZID:America/Chicago
BEGIN:DAYLIGHT
TZOFFSETFROM:-0600
TZOFFSETTO:-0500
TZNAME:CDT
DTSTART:20230312T080000
END:DAYLIGHT
BEGIN:STANDARD
TZOFFSETFROM:-0500
TZOFFSETTO:-0600
TZNAME:CST
DTSTART:20231105T070000
END:STANDARD
BEGIN:DAYLIGHT
TZOFFSETFROM:-0600
TZOFFSETTO:-0500
TZNAME:CDT
DTSTART:20240310T080000
END:DAYLIGHT
BEGIN:STANDARD
TZOFFSETFROM:-0500
TZOFFSETTO:-0600
TZNAME:CST
DTSTART:20241103T070000
END:STANDARD
BEGIN:DAYLIGHT
TZOFFSETFROM:-0600
TZOFFSETTO:-0500
TZNAME:CDT
DTSTART:20250309T080000
END:DAYLIGHT
BEGIN:STANDARD
TZOFFSETFROM:-0500
TZOFFSETTO:-0600
TZNAME:CST
DTSTART:20251102T070000
END:STANDARD
END:VTIMEZONE
BEGIN:VEVENT
DTSTART;TZID=America/Chicago:20240816T180000
DTEND;TZID=America/Chicago:20240816T180000
DTSTAMP:20260419T184726
CREATED:20240816T005300Z
LAST-MODIFIED:20240816T005300Z
UID:10000394-1723831200-1723831200@riverartsalliance.org
SUMMARY:Sugarloaf Theatre Presents Through the Looking Glass
DESCRIPTION:Cornerstone Community Church | 1001 44th Ave. | Goodview\nlinktr.ee/sugarloaftheatre \nSummer is quickly waning. What else can your entire family do together during one last weekend before it’s over? How about this: nine cast members performing 25 roles in a musical with main characters as chess pieces and tunes including country\, pop and gospel? You betcha! Costume changes alone are worth the low\, summer-fun $10 and $12 admission price for this comedic and modernized take on Lewis Carroll’s classic novel Through the Looking Glass. The story follows Alice’s journey from pawn to queen. Oh boy. To get tickets and learn more about Sugarloaf Theatre\, visit www.linktr.ee/sugarloaftheatre. Learn more.
URL:https://riverartsalliance.org/event/sugarloaf-theatre-presents-through-the-looking-glass/2024-08-16/
LOCATION:Cornerstone Community Church\, 1001 44th Ave.\, Winona\, MN\, 55987\, United States
END:VEVENT
END:VCALENDAR