BEGIN:VCALENDAR
VERSION:2.0
PRODID:-//River Arts Alliance - ECPv6.15.20//NONSGML v1.0//EN
CALSCALE:GREGORIAN
METHOD:PUBLISH
X-WR-CALNAME:River Arts Alliance
X-ORIGINAL-URL:https://riverartsalliance.org
X-WR-CALDESC:Events for River Arts Alliance
REFRESH-INTERVAL;VALUE=DURATION:PT1H
X-Robots-Tag:noindex
X-PUBLISHED-TTL:PT1H
BEGIN:VTIMEZONE
TZID:America/Chicago
BEGIN:DAYLIGHT
TZOFFSETFROM:-0600
TZOFFSETTO:-0500
TZNAME:CDT
DTSTART:20230312T080000
END:DAYLIGHT
BEGIN:STANDARD
TZOFFSETFROM:-0500
TZOFFSETTO:-0600
TZNAME:CST
DTSTART:20231105T070000
END:STANDARD
BEGIN:DAYLIGHT
TZOFFSETFROM:-0600
TZOFFSETTO:-0500
TZNAME:CDT
DTSTART:20240310T080000
END:DAYLIGHT
BEGIN:STANDARD
TZOFFSETFROM:-0500
TZOFFSETTO:-0600
TZNAME:CST
DTSTART:20241103T070000
END:STANDARD
BEGIN:DAYLIGHT
TZOFFSETFROM:-0600
TZOFFSETTO:-0500
TZNAME:CDT
DTSTART:20250309T080000
END:DAYLIGHT
BEGIN:STANDARD
TZOFFSETFROM:-0500
TZOFFSETTO:-0600
TZNAME:CST
DTSTART:20251102T070000
END:STANDARD
END:VTIMEZONE
BEGIN:VEVENT
DTSTART;TZID=America/Chicago:20240830T120000
DTEND;TZID=America/Chicago:20240830T130000
DTSTAMP:20260419T184727
CREATED:20240828T161111Z
LAST-MODIFIED:20240828T161111Z
UID:10001238-1725019200-1725022800@riverartsalliance.org
SUMMARY:Workshop: Playwriting Fundamentals
DESCRIPTION:Online via Zoom\ntheatredumiss.org \nAre you curious about the art of playwriting but unsure where to begin? Theatre du Mississippi is excited to invite you to an upcoming workshop\, Playwriting Fundamentals\, on Friday\, August 30th from noon – 1 pm Central Time. Led by playwright Taylor Sklenar\, this one-hour session will introduce you to the essentials of crafting a 10-minute play\, with tips and techniques that will help bring your stories to life on stage. This workshop is completely free and will be held via Zoom. Learn more.
URL:https://riverartsalliance.org/event/workshop-playwriting-fundamentals/
LOCATION:MN
END:VEVENT
END:VCALENDAR