BEGIN:VCALENDAR
VERSION:2.0
PRODID:-//River Arts Alliance - ECPv6.15.20//NONSGML v1.0//EN
CALSCALE:GREGORIAN
METHOD:PUBLISH
X-WR-CALNAME:River Arts Alliance
X-ORIGINAL-URL:https://riverartsalliance.org
X-WR-CALDESC:Events for River Arts Alliance
REFRESH-INTERVAL;VALUE=DURATION:PT1H
X-Robots-Tag:noindex
X-PUBLISHED-TTL:PT1H
BEGIN:VTIMEZONE
TZID:America/Chicago
BEGIN:DAYLIGHT
TZOFFSETFROM:-0600
TZOFFSETTO:-0500
TZNAME:CDT
DTSTART:20230312T080000
END:DAYLIGHT
BEGIN:STANDARD
TZOFFSETFROM:-0500
TZOFFSETTO:-0600
TZNAME:CST
DTSTART:20231105T070000
END:STANDARD
BEGIN:DAYLIGHT
TZOFFSETFROM:-0600
TZOFFSETTO:-0500
TZNAME:CDT
DTSTART:20240310T080000
END:DAYLIGHT
BEGIN:STANDARD
TZOFFSETFROM:-0500
TZOFFSETTO:-0600
TZNAME:CST
DTSTART:20241103T070000
END:STANDARD
BEGIN:DAYLIGHT
TZOFFSETFROM:-0600
TZOFFSETTO:-0500
TZNAME:CDT
DTSTART:20250309T080000
END:DAYLIGHT
BEGIN:STANDARD
TZOFFSETFROM:-0500
TZOFFSETTO:-0600
TZNAME:CST
DTSTART:20251102T070000
END:STANDARD
END:VTIMEZONE
BEGIN:VEVENT
DTSTART;TZID=America/Chicago:20240912T180000
DTEND;TZID=America/Chicago:20240912T193000
DTSTAMP:20260419T171050
CREATED:20240910T153550Z
LAST-MODIFIED:20240910T153550Z
UID:10001241-1726164000-1726169400@riverartsalliance.org
SUMMARY:"Traces of a Prairie" - Gallery Talk
DESCRIPTION:Lanesboro Arts Gallery | 103 Parkway Ave. N | Lanesboro\, MN\nlanesboroarts.org/calendar/traces-of-a-prairie/ \n“Traces of a Prairie” is an exhibition of drawings by Lois Peterson\, a River Arts Alliance member. This series of large-scale works in graphite preserves the imagery of native prairie plants and woodland trees in exquisite detail. Her work ruminates on the impacts of crop farming on local ecosystems while honoring the beauty of a vanishing native landscape. “Traces of a Prairie” will run from August 17th to October 20th at the Lanesboro Arts Exhibition Gallery\, located in Lanesboro\, MN. In a talk in conjunction with the exhibition\, on Thursday\, September 12th\, Dr. Melinda Knutson will provide a tutorial on prairies and oak savannas in the Driftless Area\, with tips on how to build your passion for prairies. Learn more.
URL:https://riverartsalliance.org/event/traces-of-a-prairie-gallery-talk/
LOCATION:Lanesboro Arts\, 103 Parkway Ave. N\, Lanesboro\, MN\, 55949
END:VEVENT
END:VCALENDAR